BEGIN:VCALENDAR
VERSION:2.0
PRODID:-//ChamberMaster//Event Calendar 2.0//EN
METHOD:PUBLISH
X-PUBLISHED-TTL:P3D
REFRESH-INTERVAL:P3D
CALSCALE:GREGORIAN
BEGIN:VEVENT
DTSTART:20190207T223000Z
DTEND:20190208T003000Z
X-MICROSOFT-CDO-ALLDAYEVENT:FALSE
SUMMARY:Ribbon Cutting at Fully Promoted/After Hours Networking at Luna Rossa
DESCRIPTION:Come celebrate the opening of Fully Promoted AND the recent expansion at Luna Rossa Ristorante. The two businesses share a parking lot and are just steps away from each other. Join us in celebration of Tewksbury economic development\, come show your support for fellow members\, and network with professionals from the Wilmington/Tewksbury Chamber. \n\n \n\n\n	Meet the owner of Fully Promoted\, Dennis Rusch. Take part in the official opening of the new store and learn more about their Branded Products & Marketing Services.\n\n\n \n\n\n	Meet the owner of the popular italian eatery\, David DiCenso. Check out their new function room\, book your Valentine's dinner reservation or purchase fresh pasta/gift cards.\n\n\n \n\n \n\n~ Complimentary Samplings ~\n\nCash Bar \n\n \n\nFree for Members\n\n$10 for Non-Members
X-ALT-DESC;FMTTYPE=text/html:<div style="color: rgb(56\, 123\, 55)\; font-family: Arial\; font-size: 12px\; white-space: pre-wrap\; background-color: rgb(255\, 255\, 255)\;"><span style="font-family: Calibri\, Helvetica\, Arial\, sans-serif\; font-size: 14px\; color: rgb(41\, 75\, 147)\;">Come celebrate the opening of Fully Promoted AND the recent expansion at Luna Rossa Ristorante. The two businesses share a parking lot and are just steps away from each other. Join us in celebration of Tewksbury economic development\, come show your support for fellow members\, and network with professionals from the Wilmington/Tewksbury Chamber.&nbsp\;</span></div>\n\n<div style="color: rgb(56\, 123\, 55)\; font-family: Arial\; font-size: 12px\; white-space: pre-wrap\; background-color: rgb(255\, 255\, 255)\;">&nbsp\;</div>\n\n<ul style="padding: 0px\; margin: 0px 0px 0px 40px\; color: rgb(56\, 123\, 55)\; font-family: Arial\; font-size: 12px\; white-space: pre-wrap\; background-color: rgb(255\, 255\, 255)\;">\n	<li style="padding: 0px\; margin: 0px\; line-height: 1.2\; color: rgb(41\, 75\, 147)\;">Meet the owner of Fully Promoted\, Dennis Rusch. Take part in the official opening of the new store and learn more about their Branded Products &amp\; Marketing Services.</li>\n</ul>\n\n<div style="color: rgb(56\, 123\, 55)\; font-family: Arial\; font-size: 12px\; white-space: pre-wrap\; background-color: rgb(255\, 255\, 255)\;">&nbsp\;</div>\n\n<ul style="padding: 0px\; margin: 0px 0px 0px 40px\; color: rgb(56\, 123\, 55)\; font-family: Arial\; font-size: 12px\; white-space: pre-wrap\; background-color: rgb(255\, 255\, 255)\;">\n	<li style="padding: 0px\; margin: 0px\; line-height: 1.2\; font-size: 14px\; color: rgb(41\, 75\, 147)\;"><span style="font-family: Calibri\, Helvetica\, Arial\, sans-serif\;">Meet the owner of the popular italian eatery\, David DiCenso. Check out their new function room\, book your Valentine&#39\;s dinner reservation or purchase fresh pasta/gift cards.</span></li>\n</ul>\n\n<div style="color: rgb(56\, 123\, 55)\; font-family: Arial\; font-size: 12px\; white-space: pre-wrap\; background-color: rgb(255\, 255\, 255)\;">&nbsp\;</div>\n\n<div style="color: rgb(56\, 123\, 55)\; font-family: Arial\; font-size: 12px\; white-space: pre-wrap\; background-color: rgb(255\, 255\, 255)\;">&nbsp\;</div>\n\n<div style="color: rgb(56\, 123\, 55)\; font-family: Arial\; font-size: 12px\; white-space: pre-wrap\; background-color: rgb(255\, 255\, 255)\; text-align: center\;"><span style="font-size: 14px\; color: rgb(41\, 75\, 147)\; font-family: Calibri\, Helvetica\, Arial\, sans-serif\; font-weight: bold\;">~ Complimentary Samplings ~</span></div>\n\n<div style="color: rgb(56\, 123\, 55)\; font-family: Arial\; font-size: 12px\; white-space: pre-wrap\; background-color: rgb(255\, 255\, 255)\; text-align: center\;"><span style="font-size: 14px\; color: rgb(41\, 75\, 147)\; font-family: Calibri\, Helvetica\, Arial\, sans-serif\; font-weight: bold\;">Cash Bar </span></div>\n\n<div style="color: rgb(56\, 123\, 55)\; font-family: Arial\; font-size: 12px\; white-space: pre-wrap\; background-color: rgb(255\, 255\, 255)\; text-align: center\;">&nbsp\;</div>\n\n<div style="color: rgb(56\, 123\, 55)\; font-family: Arial\; font-size: 12px\; white-space: pre-wrap\; background-color: rgb(255\, 255\, 255)\; text-align: center\;"><span style="font-size: 14px\; color: rgb(41\, 75\, 147)\; font-family: Calibri\, Helvetica\, Arial\, sans-serif\; font-weight: bold\;">Free for Members</span></div>\n\n<div style="color: rgb(56\, 123\, 55)\; font-family: Arial\; font-size: 12px\; white-space: pre-wrap\; background-color: rgb(255\, 255\, 255)\; text-align: center\;"><span style="font-size: 14px\; color: rgb(41\, 75\, 147)\; font-family: Calibri\, Helvetica\, Arial\, sans-serif\; font-weight: bold\;">$10 for Non-Members</span></div>\n
LOCATION:Fully Promoted & Luna Rossa Ristorante 1699 Shawsheen Street Tewksbury\, MA 01876
UID:e.2938.5253
SEQUENCE:3
DTSTAMP:20260425T103210Z
URL:https://business.wilmingtontewksburychamber.org/events/details/ribbon-cutting-at-fully-promoted-after-hours-networking-at-luna-rossa-5253
END:VEVENT

END:VCALENDAR
