BEGIN:VCALENDAR
VERSION:2.0
PRODID:-//ChamberMaster//Event Calendar 2.0//EN
METHOD:PUBLISH
X-PUBLISHED-TTL:P3D
REFRESH-INTERVAL:P3D
CALSCALE:GREGORIAN
BEGIN:VEVENT
DTSTART:20190928T130000Z
DTEND:20190928T160000Z
X-MICROSOFT-CDO-ALLDAYEVENT:FALSE
SUMMARY:Race Bib Pick Up
DESCRIPTION:Pre-registrants can pick up their Race Bib and Swag Bag at the race site on Saturday.
X-ALT-DESC;FMTTYPE=text/html:Pre-registrants can pick up their Race Bib and Swag Bag at the race site on Saturday.
LOCATION:WCTV 10 Waltham Street Wilmington
UID:e.2938.5540
SEQUENCE:3
DTSTAMP:20260424T200103Z
URL:https://business.wilmingtontewksburychamber.org/events/details/race-bib-pick-up-5540
END:VEVENT

END:VCALENDAR
