BEGIN:VCALENDAR
VERSION:2.0
PRODID:-//ChamberMaster//Event Calendar 2.0//EN
METHOD:PUBLISH
X-PUBLISHED-TTL:P3D
REFRESH-INTERVAL:P3D
CALSCALE:GREGORIAN
BEGIN:VEVENT
DTSTART:20181017T150000Z
DTEND:20181017T173000Z
X-MICROSOFT-CDO-ALLDAYEVENT:FALSE
SUMMARY:Power of Flowers Project 4th Annual Spread the Joy Luncheon
DESCRIPTION:Invites you to join us at our Fourth Annual\n\nSPREAD THE JOY LUNCHEON\n\n  lunch      silent auction      raffle      short program     socializing \n\n \n\nWednesday\, October 17th\, 2018 11:00 a.m. to 1:30 p.m. Tewksbury Country Club\, 1880 Main Street\, Tewksbury\, MA  01876 \n\n \n\nTickets are $50 per person\, advance ticket sales only.  Payable by check to: Power of Flowers Project\, P. O. Box 294\, 365 East Street\, Tewksbury\, MA  01876 Or purchase online at:  www.pofproject.org
X-ALT-DESC;FMTTYPE=text/html:<div>Invites you to join us at our Fourth Annual<br />\nSPREAD THE JOY LUNCHEON<br />\n&bull\; lunch&nbsp\; &nbsp\; &bull\; silent auction&nbsp\; &nbsp\; &bull\; raffle&nbsp\; &nbsp\; &bull\; short program&nbsp\; &nbsp\;&bull\; socializing&nbsp\;<br />\n&nbsp\;<br />\nWednesday\, October 17th\, 2018 11:00 a.m. to 1:30 p.m. Tewksbury Country Club\, 1880 Main Street\, Tewksbury\, MA&nbsp\; 01876&nbsp\;<br />\n&nbsp\;<br />\nTickets are $50 per person\, advance ticket sales only.&nbsp\; Payable by check to: Power of Flowers Project\, P. O. Box 294\, 365 East Street\, Tewksbury\, MA&nbsp\; 01876 Or purchase online at:&nbsp\; www.pofproject.org&nbsp\;<br />\n&nbsp\;</div>\n
LOCATION:Tewksbury Country Club\, 1880 Main Street\, Tewksbury\, MA 01876
UID:e.2938.5218
SEQUENCE:3
DTSTAMP:20260425T154542Z
URL:https://business.wilmingtontewksburychamber.org/events/details/power-of-flowers-project-4th-annual-spread-the-joy-luncheon-5218
END:VEVENT

END:VCALENDAR
