BEGIN:VCALENDAR
VERSION:2.0
PRODID:-//ChamberMaster//Event Calendar 2.0//EN
METHOD:PUBLISH
X-PUBLISHED-TTL:P3D
REFRESH-INTERVAL:P3D
CALSCALE:GREGORIAN
BEGIN:VEVENT
DTSTART:20190504T130000Z
DTEND:20190504T170000Z
X-MICROSOFT-CDO-ALLDAYEVENT:FALSE
SUMMARY:Power of Flowers Project 4th Annual Plant Sale
DESCRIPTION:Proven Perennials From Our Own Gardens\n\n\n\nLocally Grown Nursery Annuals \n\n\n\nProfessional Garden Tool Sharpening Available For A Fee\n\n\n\nGarden Whimsy Table Featuring Nature and Garden Novelty/Yard Sale Items\n\n\n\nRaffles\n\n\n\nPlenty Of Parking\n\n\n\n \n\n\n\n \n\n\n\nFor more information about this event please contact www.pofproject.org
X-ALT-DESC;FMTTYPE=text/html:<div>\n<div>&nbsp\;</div>\n</div>\n\n<div>\n<div><span style="font-family:inherit">Proven Perennials From Our Own Gardens</span></div>\n</div>\n\n<div>\n<div><span style="font-family:inherit">Locally Grown Nursery Annuals </span></div>\n</div>\n\n<div>\n<div><span style="font-family:inherit">Professional Garden Tool Sharpening Available For A Fee</span></div>\n</div>\n\n<div>\n<div><span style="font-family:inherit">Garden Whimsy Table Featuring Nature and Garden Novelty/Yard Sale Items</span></div>\n</div>\n\n<div>\n<div><span style="font-family:inherit">Raffles</span></div>\n</div>\n\n<div>\n<div><span style="font-family:inherit">Plenty Of Parking</span></div>\n</div>\n\n<div>\n<div>&nbsp\;</div>\n</div>\n\n<div>\n<div>&nbsp\;</div>\n</div>\n\n<div>\n<div><span style="font-family:inherit">For more information about this event please contact www.pofproject.org</span></div>\n</div>\n
LOCATION:Tewksbury Senior Center 175 Chandler Street\, Tewksbury RAIN or SHINE Plenty of Free Parking
UID:e.2938.3179
SEQUENCE:3
DTSTAMP:20260425T030448Z
URL:https://business.wilmingtontewksburychamber.org/events/details/power-of-flowers-project-4th-annual-plant-sale-3179
END:VEVENT

END:VCALENDAR
