BEGIN:VCALENDAR
VERSION:2.0
PRODID:-//ChamberMaster//Event Calendar 2.0//EN
METHOD:PUBLISH
X-PUBLISHED-TTL:P3D
REFRESH-INTERVAL:P3D
CALSCALE:GREGORIAN
BEGIN:VEVENT
DTSTART:20191109T150000Z
DTEND:20191109T190000Z
X-MICROSOFT-CDO-ALLDAYEVENT:FALSE
SUMMARY:Open House At Wilson Wolfe RE
DESCRIPTION:Check out their new location\, say HELLO\, and take a tote.
X-ALT-DESC;FMTTYPE=text/html:Check out their new location\, say HELLO\, and take a tote.
LOCATION:New Location 402 Main Street Wilmington
UID:e.2938.6549
SEQUENCE:3
DTSTAMP:20260421T213653Z
URL:https://business.wilmingtontewksburychamber.org/events/details/open-house-at-wilson-wolfe-re-6549
END:VEVENT

END:VCALENDAR
