BEGIN:VCALENDAR
VERSION:2.0
PRODID:-//ChamberMaster//Event Calendar 2.0//EN
METHOD:PUBLISH
X-PUBLISHED-TTL:P3D
REFRESH-INTERVAL:P3D
CALSCALE:GREGORIAN
BEGIN:VEVENT
DTSTART:20190821T203000Z
DTEND:20190821T233000Z
X-MICROSOFT-CDO-ALLDAYEVENT:FALSE
SUMMARY:Multi-Chamber Regional Networking Event @ Burlington Marriott
DESCRIPTION:Networking: \n\n5:30 pm - 7:30 pm\n\n Please join us for a Multi-Chamber Networking Event at the Burlington Marriott\n\nMEET\, GREET & NETWORK with over 150 member professionals from 10 local area Chambers. Don't forget to bring plenty of business cards. \n\n \n\nPlease note that tabletop space is available on a first-come\, first-served basis for Chamber Members Only at no additional cost. Space is limited and the tables are shared by 3 Chamber member companies. Table space is meant to display product samples and hold marketing materials - this is not a Business Expo - we encourage everyone to be networking and meeting new business contacts.\n\n \n\nMedia Panel: Utilizing Today's Marketing Channels & Techniques\n\n4:30 pm - 5:30 pm\n\nThis complimentary session features a panel of regional marketing experts from Cox Media Group - Boston 25\, Dynamic Beacon and 451 Agency.   Do you know how and where to reach today's consumers and business customers?  Find out how to keep your message reaching potential clients using the channels\, platforms and content to produce results.  This informational session will include a Q&A to discuss the specifics needs and challenges of our attendees.
X-ALT-DESC;FMTTYPE=text/html:<div style="margin: 0px\; padding: 0px\; border: 0px\; outline: 0px\; font-size: 12px\; vertical-align: baseline\; background-image: initial\; background-position: initial\; background-size: initial\; background-repeat: initial\; background-attachment: initial\; background-origin: initial\; background-clip: initial\; box-sizing: border-box\; color: rgb(56\, 123\, 55)\; font-family: Arial\; white-space: pre-wrap\;"><span style="font-size:16px\;"><span style="font-family:verdana\;"><span style="margin: 0px\; padding: 0px\; border: 0px\; outline: 0px\; vertical-align: baseline\; background: transparent\; box-sizing: border-box\; color: rgb(41\, 75\, 147)\; font-weight: bold\;">Networking: </span></span></span></div>\n\n<div style="margin: 0px\; padding: 0px\; border: 0px\; outline: 0px\; font-size: 12px\; vertical-align: baseline\; background-image: initial\; background-position: initial\; background-size: initial\; background-repeat: initial\; background-attachment: initial\; background-origin: initial\; background-clip: initial\; box-sizing: border-box\; color: rgb(56\, 123\, 55)\; font-family: Arial\; white-space: pre-wrap\;"><span style="font-size:16px\;"><span style="font-family:verdana\;"><span style="margin: 0px\; padding: 0px\; border: 0px\; outline: 0px\; vertical-align: baseline\; background: transparent\; box-sizing: border-box\; color: rgb(41\, 75\, 147)\; font-weight: bold\;">5:30 pm - 7:30 pm</span></span></span></div>\n\n<p style="margin: 0px 0px 1rem\; padding: 0px\; border: 0px\; outline: 0px\; font-size: 12px\; vertical-align: baseline\; background-image: initial\; background-position: initial\; background-size: initial\; background-repeat: initial\; background-attachment: initial\; background-origin: initial\; background-clip: initial\; box-sizing: border-box\; color: rgb(56\, 123\, 55)\; font-family: Arial\; white-space: pre-wrap\;"><span style="font-size:14px\;"><span style="font-family:verdana\;"><span style="margin: 0px\; padding: 0px\; border: 0px\; outline: 0px\; vertical-align: baseline\; background: transparent\; box-sizing: border-box\; color: rgb(0\, 0\, 128)\;">&#65279\;<span style="margin: 0px\; padding: 0px\; border: 0px\; outline: 0px\; vertical-align: baseline\; background: transparent\; box-sizing: border-box\;">Please&nbsp\;join us for a Multi-Chamber Networking Event at the Burlington Marriott</span></span></span></span></p>\n\n<div style="margin: 0px\; padding: 0px\; border: 0px\; outline: 0px\; font-size: 12px\; vertical-align: baseline\; background-image: initial\; background-position: initial\; background-size: initial\; background-repeat: initial\; background-attachment: initial\; background-origin: initial\; background-clip: initial\; box-sizing: border-box\; color: rgb(56\, 123\, 55)\; font-family: Arial\; white-space: pre-wrap\;"><span style="font-size:14px\;"><span style="font-family:verdana\;"><span style="margin: 0px\; padding: 0px\; border: 0px\; outline: 0px\; vertical-align: baseline\; background: transparent\; box-sizing: border-box\; color: rgb(0\, 0\, 128)\;"><span style="margin: 0px\; padding: 0px\; border: 0px\; outline: 0px\; vertical-align: baseline\; background: transparent\; box-sizing: border-box\;">MEET\, GREET &amp\; NETWORK</span><span style="margin: 0px\; padding: 0px\; border: 0px\; outline: 0px\; vertical-align: baseline\; background: transparent\; box-sizing: border-box\;">&nbsp\;with&nbsp\;over&nbsp\;150 member&nbsp\;professionals&nbsp\;from 10&nbsp\;local area&nbsp\;Chambers.&nbsp\;Don&#39\;t forget to bring plenty of business cards.&nbsp\;</span></span></span></span></div>\n\n<div style="margin: 0px\; padding: 0px\; border: 0px\; outline: 0px\; font-size: 12px\; vertical-align: baseline\; background-image: initial\; background-position: initial\; background-size: initial\; background-repeat: initial\; background-attachment: initial\; background-origin: initial\; background-clip: initial\; box-sizing: border-box\; color: rgb(56\, 123\, 55)\; font-family: Arial\; white-space: pre-wrap\;">&nbsp\;</div>\n\n<div style="margin: 0px\; padding: 0px\; border: 0px\; outline: 0px\; font-size: 12px\; vertical-align: baseline\; background-image: initial\; background-position: initial\; background-size: initial\; background-repeat: initial\; background-attachment: initial\; background-origin: initial\; background-clip: initial\; box-sizing: border-box\; color: rgb(56\, 123\, 55)\; font-family: Arial\; white-space: pre-wrap\;"><span style="font-size:14px\;"><span style="font-family:verdana\;"><span style="margin: 0px\; padding: 0px\; border: 0px\; outline: 0px\; vertical-align: baseline\; background: transparent\; box-sizing: border-box\; color: rgb(0\, 0\, 128)\;">Please note that tabletop space is available on a first-come\, first-served basis for Chamber Members Only at no additional cost. Space is limited and the tables are shared by 3 Chamber member companies. Table space is meant to display product samples and hold marketing materials - this is not a Business Expo - we encourage everyone to be networking and meeting new business contacts.</span></span></span></div>\n\n<div style="margin: 0px\; padding: 0px\; border: 0px\; outline: 0px\; font-size: 12px\; vertical-align: baseline\; background-image: initial\; background-position: initial\; background-size: initial\; background-repeat: initial\; background-attachment: initial\; background-origin: initial\; background-clip: initial\; box-sizing: border-box\; color: rgb(56\, 123\, 55)\; font-family: Arial\; white-space: pre-wrap\;">&nbsp\;</div>\n\n<div style="margin: 0px\; padding: 0px\; border: 0px\; outline: 0px\; font-size: 12px\; vertical-align: baseline\; background-image: initial\; background-position: initial\; background-size: initial\; background-repeat: initial\; background-attachment: initial\; background-origin: initial\; background-clip: initial\; box-sizing: border-box\; color: rgb(56\, 123\, 55)\; font-family: Arial\; white-space: pre-wrap\;"><span style="font-size:16px\;"><span style="font-family:verdana\;"><span style="margin: 0px\; padding: 0px\; border: 0px\; outline: 0px\; vertical-align: baseline\; background: transparent\; box-sizing: border-box\; color: rgb(0\, 0\, 128)\;"><span style="margin: 0px\; padding: 0px\; border: 0px\; outline: 0px\; vertical-align: baseline\; background: transparent\; box-sizing: border-box\; font-weight: bold\;">Media Panel: Utilizing Today&#39\;s Marketing Channels &amp\; Techniques</span></span></span></span></div>\n\n<div style="margin: 0px\; padding: 0px\; border: 0px\; outline: 0px\; font-size: 12px\; vertical-align: baseline\; background-image: initial\; background-position: initial\; background-size: initial\; background-repeat: initial\; background-attachment: initial\; background-origin: initial\; background-clip: initial\; box-sizing: border-box\; color: rgb(56\, 123\, 55)\; font-family: Arial\; white-space: pre-wrap\;"><span style="font-size:14px\;"><span style="font-family:verdana\;"><span style="margin: 0px\; padding: 0px\; border: 0px\; outline: 0px\; vertical-align: baseline\; background: transparent\; box-sizing: border-box\; color: rgb(0\, 0\, 128)\;"><span style="margin: 0px\; padding: 0px\; border: 0px\; outline: 0px\; vertical-align: baseline\; background: transparent\; box-sizing: border-box\; font-weight: bold\;"><span style="font-size:16px\;">4:30 pm - 5:30 pm</span></span></span><br />\n<span style="color:#000080\;"><span style="background: none 0% 0% / auto repeat scroll padding-box border-box transparent\; border: medium none currentcolor\; border-radius: 0px\; border-collapse: separate\; bottom: auto\; box-shadow: none\; box-sizing: content-box\; clear: none\; content: normal\; direction: inherit\; empty-cells: show\; font-stretch: inherit\; font-style: inherit\; font-variant: inherit\; font-weight: inherit\; height: auto\; left: auto\; letter-spacing: inherit\; line-height: inherit\; margin: 0px\; max-height: none\; max-width: none\; min-height: initial\; min-width: initial\; opacity: 1\; outline-offset: 0px\; outline-style: none\; outline-width: medium\; overflow: visible\; overflow-wrap: inherit\; padding: 0px\; position: static\; right: auto\; table-layout: auto\; text-align: inherit\; text-indent: inherit\; text-overflow: clip\; text-transform: inherit\; top: auto\; vertical-align: baseline\; visibility: inherit\; white-space: inherit\; width: auto\; word-break: inherit\; word-spacing: inherit\; z-index: auto\;">This complimentary session features a panel&nbsp\;of regional marketing experts from Cox Media Group - Boston 25\, Dynamic Beacon and 451 Agency.&nbsp\;</span></span></span><span style="font-family:verdana\;"><span style="background: none 0% 0% / auto repeat scroll padding-box border-box transparent\; border: medium none currentcolor\; border-radius: 0px\; border-collapse: separate\; bottom: auto\; box-shadow: none\; box-sizing: content-box\; clear: none\; content: normal\; direction: inherit\; empty-cells: show\; font-stretch: inherit\; font-style: inherit\; font-variant: inherit\; font-weight: inherit\; height: auto\; left: auto\; letter-spacing: inherit\; line-height: inherit\; margin: 0px\; max-height: none\; max-width: none\; min-height: initial\; min-width: initial\; opacity: 1\; outline-offset: 0px\; outline-style: none\; outline-width: medium\; overflow: visible\; overflow-wrap: inherit\; padding: 0px\; position: static\; right: auto\; table-layout: auto\; text-align: inherit\; text-indent: inherit\; text-overflow: clip\; text-transform: inherit\; top: auto\; vertical-align: baseline\; visibility: inherit\; white-space: inherit\; width: auto\; word-break: inherit\; word-spacing: inherit\; z-index: auto\;"><span style="color:#000080\;">&nbsp\; Do you know how and where&nbsp\;to reach today&#39\;s&nbsp\;consumers and business customers?&nbsp\;&nbsp\;Find out how to keep your message reaching potential clients using the channels\,&nbsp\;platforms and content to&nbsp\;produce results.&nbsp\; This informational session will include a Q&amp\;A to discuss the specifics needs and challenges of our attendees.</span></span></span></span></div>\n
LOCATION:Burlington Marriott One Burlington Mall Road\, Burlington
UID:e.2938.5506
SEQUENCE:3
DTSTAMP:20260424T214357Z
URL:https://business.wilmingtontewksburychamber.org/events/details/multi-chamber-regional-networking-event-burlington-marriott-5506
END:VEVENT

END:VCALENDAR
