BEGIN:VCALENDAR
VERSION:2.0
PRODID:-//ChamberMaster//Event Calendar 2.0//EN
METHOD:PUBLISH
X-PUBLISHED-TTL:P3D
REFRESH-INTERVAL:P3D
CALSCALE:GREGORIAN
BEGIN:VEVENT
DTSTART:20180822T213000Z
DTEND:20180822T233000Z
X-MICROSOFT-CDO-ALLDAYEVENT:FALSE
SUMMARY:Multi-Chamber Networking Event @ Cafe Escadrille
DESCRIPTION:Networking: \n\n5:30 pm - 7:30 pm\n\n Please join us for a Multi-Chamber Networking Event at the Cafe Escadrille.  \n\nMEET\, GREET & NETWORK with over 200 member professionals from several local area Chambers. Don't forget to bring plenty of business cards. \n\n \n\nPlease note that tabletop space is available on a first-come\, first-served basis for Chamber Members Only at no additional cost. Space is limited and the tables are shared by 3 Chamber member companies. Table space is meant to display product samples and hold marketing materials - this is not a Business Expo - we encourage everyone to be networking and meeting new business contacts.\n\n \n\nOptional FREE Seminar: \n\n4:30 pm - 5:30 pm\n\n"Why People Buy"\n\n \n\nPresenter\, Greg Nanigian\, is an accomplished sales and sales management trainer\, affiliated with Sandler Training. Greg Nanigian & Associates\, Inc. has consistently been one of Sandler Training's top ranked affiliates. On a national level\, Sandler has been named number one in sales and sales management training. Nanigian recently published the book WHY PEOPLE BUY. He's operated Sandler Training in Massachusetts since 1987. \n\n \n\nDuring this interactive\, fun and educational presentation\, Greg will address various aspects of his book. Topics to be discussed include: wholesale changes that improve closing ratio\, selling challenges including price objections and "think it overs"\, tactful selling approaches\, how to gain control of a selling situation\, how to build credibility without "spilling your candy in the lobby"\, and more.
X-ALT-DESC;FMTTYPE=text/html:<div style="color: rgb(56\, 123\, 55)\; font-family: Arial\; font-size: 12px\; white-space: pre-wrap\; background-color: rgb(255\, 255\, 255)\;"><span style="font-size: 18px\; color: rgb(41\, 75\, 147)\; font-weight: bold\;">Networking: </span></div>\n\n<div style="color: rgb(56\, 123\, 55)\; font-family: Arial\; font-size: 12px\; white-space: pre-wrap\; background-color: rgb(255\, 255\, 255)\;"><span style="font-size: 18px\; color: rgb(41\, 75\, 147)\; font-weight: bold\;">5:30 pm - 7:30 pm</span></div>\n\n<p style="color: rgb(56\, 123\, 55)\; font-family: Arial\; font-size: 12px\; white-space: pre-wrap\; background-color: rgb(255\, 255\, 255)\;"><span style="color:#000080\;">&#65279\;<span style="font-family: Arial\, Verdana\, Helvetica\, sans-serif\;">Please&nbsp\;join us for a Multi-Chamber Networking Event at the Cafe Escadrille.&nbsp\;&nbsp\;</span></span></p>\n\n<div style="color: rgb(56\, 123\, 55)\; font-family: Arial\; font-size: 12px\; white-space: pre-wrap\; background-color: rgb(255\, 255\, 255)\;"><span style="color:#000080\;"><span style="font-family: Arial\, Verdana\, Helvetica\, sans-serif\;">MEET\, GREET &amp\; NETWORK</span><span style="font-family: Arial\, Verdana\, Helvetica\, sans-serif\;">&nbsp\;with&nbsp\;over&nbsp\;200 member&nbsp\;professionals&nbsp\;from several&nbsp\;local area&nbsp\;Chambers.&nbsp\;Don&#39\;t forget to bring plenty of business cards.&nbsp\;</span></span></div>\n\n<div style="color: rgb(56\, 123\, 55)\; font-family: Arial\; font-size: 12px\; white-space: pre-wrap\; background-color: rgb(255\, 255\, 255)\;">&nbsp\;</div>\n\n<div style="color: rgb(56\, 123\, 55)\; font-family: Arial\; font-size: 12px\; white-space: pre-wrap\; background-color: rgb(255\, 255\, 255)\;"><span style="color:#000080\;">Please note that tabletop space is available on a first-come\, first-served basis for Chamber Members Only at no additional cost. Space is limited and the tables are shared by 3 Chamber member companies. Table space is meant to display product samples and hold marketing materials - this is not a Business Expo - we encourage everyone to be networking and meeting new business contacts.</span></div>\n\n<div style="color: rgb(56\, 123\, 55)\; font-family: Arial\; font-size: 12px\; white-space: pre-wrap\; background-color: rgb(255\, 255\, 255)\;">&nbsp\;</div>\n\n<div style="color: rgb(56\, 123\, 55)\; font-family: Arial\; font-size: 12px\; white-space: pre-wrap\; background-color: rgb(255\, 255\, 255)\;"><span style="color:#000080\;"><span style="font-size: 18px\; font-weight: bold\;">Optional FREE Seminar: </span></span></div>\n\n<div style="color: rgb(56\, 123\, 55)\; font-family: Arial\; font-size: 12px\; white-space: pre-wrap\; background-color: rgb(255\, 255\, 255)\;"><span style="color:#000080\;"><span style="font-size: 18px\; font-weight: bold\;">4:30 pm - 5:30 pm</span></span></div>\n\n<div style="color: rgb(56\, 123\, 55)\; font-family: Arial\; font-size: 12px\; white-space: pre-wrap\; background-color: rgb(255\, 255\, 255)\;"><span style="color:#000080\;"><span style="font-size: 18px\; font-weight: bold\;">&quot\;Why People Buy&quot\;</span></span></div>\n\n<div style="color: rgb(56\, 123\, 55)\; font-family: Arial\; font-size: 12px\; white-space: pre-wrap\; background-color: rgb(255\, 255\, 255)\;">&nbsp\;</div>\n\n<div style="color: rgb(56\, 123\, 55)\; font-family: Arial\; font-size: 12px\; white-space: pre-wrap\; background-color: rgb(255\, 255\, 255)\;"><span style="color:#000080\;">Presenter\, Greg Nanigian\, is an accomplished sales and sales management trainer\, affiliated with Sandler Training. Greg Nanigian &amp\; Associates\, Inc. has consistently been one of Sandler Training&#39\;s top ranked affiliates. On a national level\, Sandler has been named number one in sales and sales management training. Nanigian recently published the book WHY PEOPLE BUY. He&#39\;s operated Sandler Training in Massachusetts since 1987. </span></div>\n\n<div style="color: rgb(56\, 123\, 55)\; font-family: Arial\; font-size: 12px\; white-space: pre-wrap\; background-color: rgb(255\, 255\, 255)\;">&nbsp\;</div>\n\n<div style="color: rgb(56\, 123\, 55)\; font-family: Arial\; font-size: 12px\; white-space: pre-wrap\; background-color: rgb(255\, 255\, 255)\;"><span style="color:#000080\;">During this interactive\, fun and educational presentation\, Greg will address various aspects of his book. Topics to be discussed include: wholesale changes that improve closing ratio\, selling challenges including price objections and &quot\;think it overs&quot\;\, tactful selling approaches\, how to gain control of a selling situation\, how to build credibility without &quot\;spilling your candy in the lobby&quot\;\, and more.</span></div>\n
LOCATION:Cafe Escadrille 26 Cambridge Street Burlington\, MA
UID:e.2938.5205
SEQUENCE:3
DTSTAMP:20260425T191127Z
URL:https://business.wilmingtontewksburychamber.org/events/details/multi-chamber-networking-event-cafe-escadrille-5205
END:VEVENT

END:VCALENDAR
