BEGIN:VCALENDAR
VERSION:2.0
PRODID:-//ChamberMaster//Event Calendar 2.0//EN
METHOD:PUBLISH
X-PUBLISHED-TTL:P3D
REFRESH-INTERVAL:P3D
CALSCALE:GREGORIAN
BEGIN:VEVENT
DTSTART:20181030T213000Z
DTEND:20181031T000000Z
X-MICROSOFT-CDO-ALLDAYEVENT:FALSE
SUMMARY:Multi-Chamber Networking Event at the Greater Boston Stage Company
DESCRIPTION:Please join us on October 30th for a Multi-Chamber Networking Event at the Greater Boston Stage Company. \n\n\n\nMeet\, greet and network with more than 200 area professionals from several local area Chambers. Table space will be available for business cards and promotional materials.\n\n \n\nAn Optional Workshop will be offered at 5:30pm\, with a reception to follow\, 6:30 until 8:00pm. Meet professionals from area chambers and enjoy complimentary appetizers and cash bar.\n\n\n\nWorkshop: Power Body Language \n\nSpeaker: Juliet Gil\, Nonverbally Speaking LLC\, Owner and Lead Investigator\n\n\n\nNonverbal communication accounts for at least 60 percent of our communication\, don't leave out most of your communication skills! Increase Influence levels by portraying higher levels of confidence\, leadership and presence.\n\n\n\nTopics covered will include body language science and history\, as well as what your body language does and can say about you. Learn how to put your best self forward through improved nonverbal presence\, connection and engagement.
X-ALT-DESC;FMTTYPE=text/html:<strong>Please join us on October 30th for a Multi-Chamber Networking Event at the Greater Boston Stage Company.&nbsp\;</strong><br style="background: none 0% 0% / auto repeat scroll padding-box border-box transparent\; border: 0px none rgb(83\, 83\, 83)\; border-radius: 0px\; border-collapse: separate\; bottom: auto\; box-sizing: content-box\; clear: none\; color: rgb(83\, 83\, 83)\; direction: ltr\; display: inline\; empty-cells: show\; float: none\; font-size: 15px\; font-stretch: 100%\; font-variant-numeric: normal\; font-variant-east-asian: normal\; height: auto\; left: auto\; line-height: 19.5px\; margin: 0px\; max-height: none\; max-width: none\; min-height: 0px\; min-width: 0px\; opacity: 1\; outline-offset: 0px\; outline-style: none\; outline-width: 0px\; overflow: visible\; padding: 0px\; position: static\; right: auto\; table-layout: auto\; text-overflow: clip\; top: auto\; vertical-align: baseline\; visibility: visible\; width: auto\; word-break: normal\; overflow-wrap: normal\; z-index: auto\;" />\n<br style="background: none 0% 0% / auto repeat scroll padding-box border-box transparent\; border: 0px none rgb(83\, 83\, 83)\; border-radius: 0px\; border-collapse: separate\; bottom: auto\; box-sizing: content-box\; clear: none\; color: rgb(83\, 83\, 83)\; direction: ltr\; display: inline\; empty-cells: show\; float: none\; font-size: 15px\; font-stretch: 100%\; font-variant-numeric: normal\; font-variant-east-asian: normal\; height: auto\; left: auto\; line-height: 19.5px\; margin: 0px\; max-height: none\; max-width: none\; min-height: 0px\; min-width: 0px\; opacity: 1\; outline-offset: 0px\; outline-style: none\; outline-width: 0px\; overflow: visible\; padding: 0px\; position: static\; right: auto\; table-layout: auto\; text-overflow: clip\; top: auto\; vertical-align: baseline\; visibility: visible\; width: auto\; word-break: normal\; overflow-wrap: normal\; z-index: auto\;" />\n<span font-size:="" font-stretch:="" font-variant-east-asian:="" font-variant-numeric:="" helvetica="" line-height:="" open="" overflow-wrap:="" style="background-color: transparent\; border-collapse: separate\; color: rgb(83\, 83\, 83)\; direction: ltr\; empty-cells: show\; font-family: " visibility:="" word-break:="">Meet\, greet and network with more than 200 area professionals from several local area Chambers. Table space will be available for business cards and promotional materials.</span><br style="background: none 0% 0% / auto repeat scroll padding-box border-box transparent\; border: 0px none rgb(83\, 83\, 83)\; border-radius: 0px\; border-collapse: separate\; bottom: auto\; box-sizing: content-box\; clear: none\; color: rgb(83\, 83\, 83)\; direction: ltr\; display: inline\; empty-cells: show\; float: none\; font-size: 15px\; font-stretch: 100%\; font-variant-numeric: normal\; font-variant-east-asian: normal\; height: auto\; left: auto\; line-height: 19.5px\; margin: 0px\; max-height: none\; max-width: none\; min-height: 0px\; min-width: 0px\; opacity: 1\; outline-offset: 0px\; outline-style: none\; outline-width: 0px\; overflow: visible\; padding: 0px\; position: static\; right: auto\; table-layout: auto\; text-overflow: clip\; top: auto\; vertical-align: baseline\; visibility: visible\; width: auto\; word-break: normal\; overflow-wrap: normal\; z-index: auto\;" />\n<span font-size:="" font-stretch:="" font-variant-east-asian:="" font-variant-numeric:="" helvetica="" line-height:="" open="" overflow-wrap:="" style="background-color: transparent\; border-collapse: separate\; color: rgb(83\, 83\, 83)\; direction: ltr\; empty-cells: show\; font-family: " visibility:="" word-break:="">&nbsp\;</span><br style="background: none 0% 0% / auto repeat scroll padding-box border-box transparent\; border: 0px none rgb(83\, 83\, 83)\; border-radius: 0px\; border-collapse: separate\; bottom: auto\; box-sizing: content-box\; clear: none\; color: rgb(83\, 83\, 83)\; direction: ltr\; display: inline\; empty-cells: show\; float: none\; font-size: 15px\; font-stretch: 100%\; font-variant-numeric: normal\; font-variant-east-asian: normal\; height: auto\; left: auto\; line-height: 19.5px\; margin: 0px\; max-height: none\; max-width: none\; min-height: 0px\; min-width: 0px\; opacity: 1\; outline-offset: 0px\; outline-style: none\; outline-width: 0px\; overflow: visible\; padding: 0px\; position: static\; right: auto\; table-layout: auto\; text-overflow: clip\; top: auto\; vertical-align: baseline\; visibility: visible\; width: auto\; word-break: normal\; overflow-wrap: normal\; z-index: auto\;" />\n<span font-size:="" font-stretch:="" font-variant-east-asian:="" font-variant-numeric:="" helvetica="" line-height:="" open="" overflow-wrap:="" style="background-color: transparent\; border-collapse: separate\; color: rgb(83\, 83\, 83)\; direction: ltr\; empty-cells: show\; font-family: " visibility:="" word-break:="">An Optional Workshop will be offered at 5:30pm\, with a reception to follow\, 6:30 until 8:00pm. Meet professionals from area chambers and enjoy complimentary appetizers and cash bar.</span><br style="background: none 0% 0% / auto repeat scroll padding-box border-box transparent\; border: 0px none rgb(83\, 83\, 83)\; border-radius: 0px\; border-collapse: separate\; bottom: auto\; box-sizing: content-box\; clear: none\; color: rgb(83\, 83\, 83)\; direction: ltr\; display: inline\; empty-cells: show\; float: none\; font-size: 15px\; font-stretch: 100%\; font-variant-numeric: normal\; font-variant-east-asian: normal\; height: auto\; left: auto\; line-height: 19.5px\; margin: 0px\; max-height: none\; max-width: none\; min-height: 0px\; min-width: 0px\; opacity: 1\; outline-offset: 0px\; outline-style: none\; outline-width: 0px\; overflow: visible\; padding: 0px\; position: static\; right: auto\; table-layout: auto\; text-overflow: clip\; top: auto\; vertical-align: baseline\; visibility: visible\; width: auto\; word-break: normal\; overflow-wrap: normal\; z-index: auto\;" />\n<br style="background: none 0% 0% / auto repeat scroll padding-box border-box transparent\; border: 0px none rgb(83\, 83\, 83)\; border-radius: 0px\; border-collapse: separate\; bottom: auto\; box-sizing: content-box\; clear: none\; color: rgb(83\, 83\, 83)\; direction: ltr\; display: inline\; empty-cells: show\; float: none\; font-size: 15px\; font-stretch: 100%\; font-variant-numeric: normal\; font-variant-east-asian: normal\; height: auto\; left: auto\; line-height: 19.5px\; margin: 0px\; max-height: none\; max-width: none\; min-height: 0px\; min-width: 0px\; opacity: 1\; outline-offset: 0px\; outline-style: none\; outline-width: 0px\; overflow: visible\; padding: 0px\; position: static\; right: auto\; table-layout: auto\; text-overflow: clip\; top: auto\; vertical-align: baseline\; visibility: visible\; width: auto\; word-break: normal\; overflow-wrap: normal\; z-index: auto\;" />\n<span style="background: none 0% 0% / auto repeat scroll padding-box border-box transparent\; border: 0px none rgb(83\, 83\, 83)\; border-radius: 0px\; border-collapse: separate\; bottom: auto\; box-shadow: none\; box-sizing: content-box\; clear: none\; color: rgb(83\, 83\, 83)\; direction: ltr\; empty-cells: show\; font-size: 21.33px\; font-stretch: 100%\; font-variant-numeric: normal\; font-variant-east-asian: normal\; height: auto\; left: auto\; line-height: 27.72px\; margin: 0px\; max-height: none\; max-width: none\; min-height: 0px\; min-width: 0px\; opacity: 1\; outline-offset: 0px\; outline-style: none\; outline-width: 0px\; overflow: visible\; padding: 0px\; position: static\; right: auto\; table-layout: auto\; text-overflow: clip\; top: auto\; vertical-align: baseline\; visibility: visible\; width: auto\; word-break: normal\; overflow-wrap: normal\; z-index: auto\;">Workshop: Power Body Language</span><span font-size:="" font-stretch:="" font-variant-east-asian:="" font-variant-numeric:="" helvetica="" line-height:="" open="" overflow-wrap:="" style="background-color: transparent\; border-collapse: separate\; color: rgb(83\, 83\, 83)\; direction: ltr\; empty-cells: show\; font-family: " visibility:="" word-break:="">&nbsp\;</span><br style="background: none 0% 0% / auto repeat scroll padding-box border-box transparent\; border: 0px none rgb(83\, 83\, 83)\; border-radius: 0px\; border-collapse: separate\; bottom: auto\; box-sizing: content-box\; clear: none\; color: rgb(83\, 83\, 83)\; direction: ltr\; display: inline\; empty-cells: show\; float: none\; font-size: 15px\; font-stretch: 100%\; font-variant-numeric: normal\; font-variant-east-asian: normal\; height: auto\; left: auto\; line-height: 19.5px\; margin: 0px\; max-height: none\; max-width: none\; min-height: 0px\; min-width: 0px\; opacity: 1\; outline-offset: 0px\; outline-style: none\; outline-width: 0px\; overflow: visible\; padding: 0px\; position: static\; right: auto\; table-layout: auto\; text-overflow: clip\; top: auto\; vertical-align: baseline\; visibility: visible\; width: auto\; word-break: normal\; overflow-wrap: normal\; z-index: auto\;" />\n<span style="background: none 0% 0% / auto repeat scroll padding-box border-box transparent\; border: 0px none rgb(83\, 83\, 83)\; border-radius: 0px\; border-collapse: separate\; bottom: auto\; box-shadow: none\; box-sizing: content-box\; clear: none\; color: rgb(83\, 83\, 83)\; direction: ltr\; empty-cells: show\; font-size: 17.33px\; font-stretch: 100%\; font-variant-numeric: normal\; font-variant-east-asian: normal\; height: auto\; left: auto\; line-height: 22.52px\; margin: 0px\; max-height: none\; max-width: none\; min-height: 0px\; min-width: 0px\; opacity: 1\; outline-offset: 0px\; outline-style: none\; outline-width: 0px\; overflow: visible\; padding: 0px\; position: static\; right: auto\; table-layout: auto\; text-overflow: clip\; top: auto\; vertical-align: baseline\; visibility: visible\; width: auto\; word-break: normal\; overflow-wrap: normal\; z-index: auto\;">Speaker: Juliet Gil\, Nonverbally Speaking LLC\, Owner and Lead Investigator</span><br style="background: none 0% 0% / auto repeat scroll padding-box border-box transparent\; border: 0px none rgb(83\, 83\, 83)\; border-radius: 0px\; border-collapse: separate\; bottom: auto\; box-sizing: content-box\; clear: none\; color: rgb(83\, 83\, 83)\; direction: ltr\; display: inline\; empty-cells: show\; float: none\; font-size: 15px\; font-stretch: 100%\; font-variant-numeric: normal\; font-variant-east-asian: normal\; height: auto\; left: auto\; line-height: 19.5px\; margin: 0px\; max-height: none\; max-width: none\; min-height: 0px\; min-width: 0px\; opacity: 1\; outline-offset: 0px\; outline-style: none\; outline-width: 0px\; overflow: visible\; padding: 0px\; position: static\; right: auto\; table-layout: auto\; text-overflow: clip\; top: auto\; vertical-align: baseline\; visibility: visible\; width: auto\; word-break: normal\; overflow-wrap: normal\; z-index: auto\;" />\n<br style="background: none 0% 0% / auto repeat scroll padding-box border-box transparent\; border: 0px none rgb(83\, 83\, 83)\; border-radius: 0px\; border-collapse: separate\; bottom: auto\; box-sizing: content-box\; clear: none\; color: rgb(83\, 83\, 83)\; direction: ltr\; display: inline\; empty-cells: show\; float: none\; font-size: 15px\; font-stretch: 100%\; font-variant-numeric: normal\; font-variant-east-asian: normal\; height: auto\; left: auto\; line-height: 19.5px\; margin: 0px\; max-height: none\; max-width: none\; min-height: 0px\; min-width: 0px\; opacity: 1\; outline-offset: 0px\; outline-style: none\; outline-width: 0px\; overflow: visible\; padding: 0px\; position: static\; right: auto\; table-layout: auto\; text-overflow: clip\; top: auto\; vertical-align: baseline\; visibility: visible\; width: auto\; word-break: normal\; overflow-wrap: normal\; z-index: auto\;" />\n<span font-size:="" font-stretch:="" font-variant-east-asian:="" font-variant-numeric:="" helvetica="" line-height:="" open="" overflow-wrap:="" style="background-color: transparent\; border-collapse: separate\; color: rgb(83\, 83\, 83)\; direction: ltr\; empty-cells: show\; font-family: " visibility:="" word-break:="">Nonverbal communication accounts for at least 60 percent of our communication\, don&rsquo\;t leave out most of your communication skills! Increase Influence levels by portraying higher levels of confidence\, leadership and presence.</span><br style="background: none 0% 0% / auto repeat scroll padding-box border-box transparent\; border: 0px none rgb(83\, 83\, 83)\; border-radius: 0px\; border-collapse: separate\; bottom: auto\; box-sizing: content-box\; clear: none\; color: rgb(83\, 83\, 83)\; direction: ltr\; display: inline\; empty-cells: show\; float: none\; font-size: 15px\; font-stretch: 100%\; font-variant-numeric: normal\; font-variant-east-asian: normal\; height: auto\; left: auto\; line-height: 19.5px\; margin: 0px\; max-height: none\; max-width: none\; min-height: 0px\; min-width: 0px\; opacity: 1\; outline-offset: 0px\; outline-style: none\; outline-width: 0px\; overflow: visible\; padding: 0px\; position: static\; right: auto\; table-layout: auto\; text-overflow: clip\; top: auto\; vertical-align: baseline\; visibility: visible\; width: auto\; word-break: normal\; overflow-wrap: normal\; z-index: auto\;" />\n<br style="background: none 0% 0% / auto repeat scroll padding-box border-box transparent\; border: 0px none rgb(83\, 83\, 83)\; border-radius: 0px\; border-collapse: separate\; bottom: auto\; box-sizing: content-box\; clear: none\; color: rgb(83\, 83\, 83)\; direction: ltr\; display: inline\; empty-cells: show\; float: none\; font-size: 15px\; font-stretch: 100%\; font-variant-numeric: normal\; font-variant-east-asian: normal\; height: auto\; left: auto\; line-height: 19.5px\; margin: 0px\; max-height: none\; max-width: none\; min-height: 0px\; min-width: 0px\; opacity: 1\; outline-offset: 0px\; outline-style: none\; outline-width: 0px\; overflow: visible\; padding: 0px\; position: static\; right: auto\; table-layout: auto\; text-overflow: clip\; top: auto\; vertical-align: baseline\; visibility: visible\; width: auto\; word-break: normal\; overflow-wrap: normal\; z-index: auto\;" />\n<span font-size:="" font-stretch:="" font-variant-east-asian:="" font-variant-numeric:="" helvetica="" line-height:="" open="" overflow-wrap:="" style="background-color: transparent\; border-collapse: separate\; color: rgb(83\, 83\, 83)\; direction: ltr\; empty-cells: show\; font-family: " visibility:="" word-break:="">Topics covered will include body language science and history\, as well as what your body language does and can say about you. Learn how to put your best self forward through improved nonverbal presence\, connection and engagement.</span><br />\n<br />\n<br />\n<br />\n<br />\n<br />\n&nbsp\;
LOCATION:Greater Boston Stage Company 395 Main Street Stoneham\, MA 02180
UID:e.2938.5228
SEQUENCE:3
DTSTAMP:20260425T154338Z
URL:https://business.wilmingtontewksburychamber.org/events/details/multi-chamber-networking-event-at-the-greater-boston-stage-company-5228
END:VEVENT

END:VCALENDAR
