BEGIN:VCALENDAR
VERSION:2.0
PRODID:-//ChamberMaster//Event Calendar 2.0//EN
METHOD:PUBLISH
X-PUBLISHED-TTL:P3D
REFRESH-INTERVAL:P3D
CALSCALE:GREGORIAN
BEGIN:VEVENT
DTSTART:20180425T203000Z
DTEND:20180425T233000Z
X-MICROSOFT-CDO-ALLDAYEVENT:FALSE
SUMMARY:Multi-Chamber Networking Event at Hillview Country Club
DESCRIPTION:Networking: \n\n5:30 pm - 7:30 pm\n\n \n\n Our Regional Multi-Chamber events attract 150-200 local professionals. Mark your calendar\, gather your business cards & company brochures and make your reservation to attend our 2nd regional networking event of 2018!\n\n \n\nAlthough this is not a 'Business Expo'\, there will be table space available exclusively for Chamber members on a first-come\, first-served basis at no additional cost. Tables are shared by three businesses with the goal of providing a 'place holder' for your marketing materials. Members can begin table set-up at 4:00 pm.\n\n \n\n~ Complimentary Appetizers / Cash Bar ~\n\n \n\nOptional FREE Seminar: \n\n4:30 pm - 5:15 pm\n\n \n\nSuccessful Strategies to Recruit\, Retain and Engage Employees\n\n \n\nBe proactive and create a culture and environment that attracts and retains the best employees. Whether you have a staff of 4 or 400\, you'll leave with great insights on creating a winning culture from Maxine Hart\, Chief Human Resources Officer of Reading Cooperative Bank \n\n \n\nRecruiting and retaining employees is a major challenge facing companies and organizations today in this employment market. Organizations can no longer leave the recruitment or the retention to good will and chance as employees have more options now than they have had in previous years.\n\n \n\nThis will be an interactive session where Maxine will share experiences and lessons learned.
X-ALT-DESC;FMTTYPE=text/html:<div style="color: rgb(56\, 123\, 55)\; font-family: Arial\; font-size: 12px\; white-space: pre-wrap\; background-color: rgb(255\, 255\, 255)\;"><span style="font-size:14px\;"><span style="color: rgb(41\, 75\, 147)\; font-weight: bold\;">Networking: </span></span></div>\n\n<div style="color: rgb(56\, 123\, 55)\; font-family: Arial\; font-size: 12px\; white-space: pre-wrap\; background-color: rgb(255\, 255\, 255)\;"><span style="font-size:14px\;"><span style="color: rgb(41\, 75\, 147)\; font-weight: bold\;">5:30 pm - 7:30 pm</span></span></div>\n\n<div style="color: rgb(56\, 123\, 55)\; font-family: Arial\; font-size: 12px\; white-space: pre-wrap\; background-color: rgb(255\, 255\, 255)\;">&nbsp\;</div>\n\n<div style="color: rgb(56\, 123\, 55)\; font-family: Arial\; font-size: 12px\; white-space: pre-wrap\; background-color: rgb(255\, 255\, 255)\;"><span style="font-size:14px\;"><span style="color: rgb(139\, 45\, 113)\;">&#65279\;</span><span style="color: rgb(41\, 75\, 147)\;">Our Regional Multi-Chamber events attract 150-200 local professionals. Mark your calendar\, gather your business cards &amp\; company brochures and make your reservation to attend our 2nd regional networking event of 2018!</span></span></div>\n\n<div style="color: rgb(56\, 123\, 55)\; font-family: Arial\; font-size: 12px\; white-space: pre-wrap\; background-color: rgb(255\, 255\, 255)\;">&nbsp\;</div>\n\n<div style="color: rgb(56\, 123\, 55)\; font-family: Arial\; font-size: 12px\; white-space: pre-wrap\; background-color: rgb(255\, 255\, 255)\;"><span style="font-size:14px\;"><span style="color: rgb(41\, 75\, 147)\;">Although this is not a &#39\;Business Expo&#39\;\, there will be table space available exclusively for Chamber members on a first-come\, first-served basis at no additional cost. Tables are shared by three businesses with the goal of providing&nbsp\;a &#39\;place holder&#39\; for your marketing materials.&nbsp\;Members can begin table set-up at 4:00 pm.</span></span></div>\n\n<div style="color: rgb(56\, 123\, 55)\; font-family: Arial\; font-size: 12px\; white-space: pre-wrap\; background-color: rgb(255\, 255\, 255)\;">&nbsp\;</div>\n\n<div style="color: rgb(56\, 123\, 55)\; font-family: Arial\; font-size: 12px\; white-space: pre-wrap\; background-color: rgb(255\, 255\, 255)\; text-align: center\;"><span style="font-size:14px\;"><span style="color: rgb(250\, 10\, 50)\; font-weight: bold\;">~ Complimentary Appetizers / Cash Bar ~</span></span></div>\n\n<div style="color: rgb(56\, 123\, 55)\; font-family: Arial\; font-size: 12px\; white-space: pre-wrap\; background-color: rgb(255\, 255\, 255)\;">&nbsp\;</div>\n\n<div style="color: rgb(56\, 123\, 55)\; font-family: Arial\; font-size: 12px\; white-space: pre-wrap\; background-color: rgb(255\, 255\, 255)\;"><span style="font-size:14px\;"><span style="color: rgb(41\, 75\, 147)\; font-weight: bold\;">Optional FREE Seminar: </span></span></div>\n\n<div style="color: rgb(56\, 123\, 55)\; font-family: Arial\; font-size: 12px\; white-space: pre-wrap\; background-color: rgb(255\, 255\, 255)\;"><span style="font-size:14px\;"><span style="color: rgb(41\, 75\, 147)\; font-weight: bold\;">4:30 pm - 5:15 pm</span></span></div>\n\n<div style="color: rgb(56\, 123\, 55)\; font-family: Arial\; font-size: 12px\; white-space: pre-wrap\; background-color: rgb(255\, 255\, 255)\;">&nbsp\;</div>\n\n<div style="color: rgb(56\, 123\, 55)\; font-family: Arial\; font-size: 12px\; white-space: pre-wrap\; background-color: rgb(255\, 255\, 255)\;"><span style="font-size:14px\;"><span style="color: rgb(41\, 75\, 147)\; font-weight: bold\;">Successful Strategies to Recruit\, Retain and Engage Employees</span></span></div>\n\n<div style="color: rgb(56\, 123\, 55)\; font-family: Arial\; font-size: 12px\; white-space: pre-wrap\; background-color: rgb(255\, 255\, 255)\;">&nbsp\;</div>\n\n<div style="color: rgb(56\, 123\, 55)\; font-family: Arial\; font-size: 12px\; white-space: pre-wrap\; background-color: rgb(255\, 255\, 255)\;"><span style="font-size:14px\;"><span style="color: rgb(41\, 75\, 147)\;">Be proactive and create a culture and environment that attracts and retains the best employees. Whether you have a staff of 4 or 400\, you&rsquo\;ll leave with great insights on creating a winning culture from Maxine Hart\, Chief Human Resources Officer of Reading Cooperative Bank&nbsp\;</span></span></div>\n\n<div style="color: rgb(56\, 123\, 55)\; font-family: Arial\; font-size: 12px\; white-space: pre-wrap\; background-color: rgb(255\, 255\, 255)\;">&nbsp\;</div>\n\n<div style="color: rgb(56\, 123\, 55)\; font-family: Arial\; font-size: 12px\; white-space: pre-wrap\; background-color: rgb(255\, 255\, 255)\;"><span style="font-size:14px\;"><span style="color: rgb(41\, 75\, 147)\;">Recruiting and retaining employees is a major challenge facing companies and organizations today in this employment market. Organizations can no longer leave the recruitment or the retention to good will and chance as employees have more options now than they have had in previous years.</span></span></div>\n\n<div style="color: rgb(56\, 123\, 55)\; font-family: Arial\; font-size: 12px\; white-space: pre-wrap\; background-color: rgb(255\, 255\, 255)\;">&nbsp\;</div>\n\n<div style="color: rgb(56\, 123\, 55)\; font-family: Arial\; font-size: 12px\; white-space: pre-wrap\; background-color: rgb(255\, 255\, 255)\;"><span style="font-size:14px\;"><span style="color: rgb(41\, 75\, 147)\;">This will be an interactive session where Maxine will share experiences and lessons learned.</span></span></div>\n
LOCATION:Hillview Country Club 149 North Street North Reading\, MA 01864 978-664-4435
UID:e.2938.1158
SEQUENCE:3
DTSTAMP:20260426T023811Z
URL:https://business.wilmingtontewksburychamber.org/events/details/multi-chamber-networking-event-at-hillview-country-club-1158
END:VEVENT

END:VCALENDAR
