BEGIN:VCALENDAR
VERSION:2.0
PRODID:-//ChamberMaster//Event Calendar 2.0//EN
METHOD:PUBLISH
X-PUBLISHED-TTL:P3D
REFRESH-INTERVAL:P3D
CALSCALE:GREGORIAN
BEGIN:VEVENT
DTSTART:20170307T223000Z
DTEND:20170308T010000Z
X-MICROSOFT-CDO-ALLDAYEVENT:FALSE
SUMMARY:Multi-Chamber Networking Event
DESCRIPTION:Mother Nature forced us to postpone this event originally scheduled for Feb. 9th\, but we hope you can join us on March 7th for our first regional networking event of 2017.  \n\n									 \n\n									This popular Multi-Chamber event attracts 150-200 local professionals. So mark your calendar\, gather your business cards & company brochures and make your reservation to attend today.  \n\n									 \n\n									Tabletop space will be available on a first-come\, first-served basis for Chamber members only at no additional cost.  Tables are shared by three vendors with the goal of providing a "place holder" for marketing materials.  Members can begin set-up at 5:00 pm.\n\n									 \n\n									~ Complimentary Appetizers / Cash Bar ~\n\n									Members $10.00\, Guests $20.00\n\n									 \n\n									Optional FREE Seminar\n\n									Attracting & Retaining Millennials\n\n									(5:30 pm - 6:15 pm)\n\n									 \n\n									Lynn M. Thomas\, Founder and CEO of Thomas Consulting\, will discuss the issues around attracting & retaining millennials as both customers and as employees.  Get answers to these questions and many more:  \n									\n										What is their skill set that makes them so unique? \n										How can you win their loyalty?  \n										Why have they been referred to as a "high maintenance" generation and also probably the "highest performing"?
X-ALT-DESC;FMTTYPE=text/html:<table border="0" cellpadding="0" cellspacing="0" style="width:385px\;" width="385">\n	<tbody>\n		<tr>\n			<td style="width:100.0%\;padding:0in 0in 0in 0in\;vertical-align:top\;">\n			<table border="0" cellpadding="0" cellspacing="0" style="width:100.0%\;" width="100%">\n				<tbody>\n					<tr>\n						<td style="padding:3.75pt 3.75pt 3.75pt 3.75pt\;">\n						<table border="0" cellpadding="0">\n							<tbody>\n								<tr>\n									<td style="padding:.75pt .75pt .75pt .75pt\;"><span style="color:#000090\;">Mother Nature forced us to postpone this event originally scheduled for Feb. 9th\, but we hope you can join us on March 7th for our first regional networking event of 2017. &nbsp\;</span><br />\n									&nbsp\;<br />\n									<span style="color:#000090\;">This popular Multi-Chamber event attracts 150-200 local professionals. So mark your calendar\, gather your business cards &amp\; company brochures and make your reservation to attend today. &nbsp\;</span><br />\n									&nbsp\;<br />\n									<span style="color:#000090\;">Tabletop space will be available on a first-come\, first-served basis for Chamber members only at no additional cost.&nbsp\; Tables are shared by three vendors with the goal of providing a &quot\;place holder&quot\; for marketing materials.&nbsp\; Members can begin set-up at 5:00 pm.</span><br />\n									&nbsp\;<br />\n									<strong><span style="color:red\;">~ Complimentary Appetizers / Cash Bar&nbsp\;~</span></strong><br />\n									<strong><span style="color:red\;">Members $10.00\, Guests $20.00</span></strong><br />\n									&nbsp\;<br />\n									<strong><span style="color:blue\;">Optional FREE Seminar</span></strong><br />\n									<strong><span style="color:blue\;">Attracting &amp\; Retaining Millennials</span></strong><br />\n									<strong><span style="color:blue\;">(5:30 pm&nbsp\;- 6:15 pm)</span></strong><br />\n									&nbsp\;<br />\n									<span style="color:#000090\;">Lynn M. Thomas\, Founder and CEO of Thomas Consulting\, will discuss the issues around attracting &amp\; retaining millennials as both customers and as employees. &nbsp\;Get answers to these questions and many more: &nbsp\;</span>\n									<ul>\n										<li style="color:#000090\;margin-left:0in\;">What is their skill set that makes them so unique?&nbsp\;</li>\n										<li style="color:#000090\;margin-left:0in\;">How can you win their loyalty? &nbsp\;</li>\n										<li style="color:#000090\;margin-left:0in\;">Why have they been referred to as a &quot\;high maintenance&quot\; generation and also probably the &quot\;highest performing&quot\;?</li>\n									</ul>\n									</td>\n								</tr>\n							</tbody>\n						</table>\n						</td>\n					</tr>\n				</tbody>\n			</table>\n			</td>\n		</tr>\n	</tbody>\n</table>\n
LOCATION:Crowne Plaza Boston/Woburn Hotel 15 Middlesex Canal Park Woburn\, MA 01801
UID:e.2938.6
SEQUENCE:3
DTSTAMP:20260421T150951Z
URL:https://business.wilmingtontewksburychamber.org/events/details/multi-chamber-networking-event-6
END:VEVENT

END:VCALENDAR
