BEGIN:VCALENDAR
VERSION:2.0
PRODID:-//ChamberMaster//Event Calendar 2.0//EN
METHOD:PUBLISH
X-PUBLISHED-TTL:P3D
REFRESH-INTERVAL:P3D
CALSCALE:GREGORIAN
BEGIN:VEVENT
DTSTART:20180428T230000Z
DTEND:20180429T030000Z
X-MICROSOFT-CDO-ALLDAYEVENT:FALSE
SUMMARY:Motown Dance Party
DESCRIPTION:Put on your "dancing shoes" and join us!\n\n\nThe Wilmington Sons of Italy is hosting a Motown Dance Party to benefit an organization (Gifts of Love) that supplies diapers and wipes to local families in need (these items are not supplied by federal or state funding). \n\nFeel free to bring your own food!\n\nThere will be a DJ\, raffles\, door prize entry for a diaper donation\, coffee and dessert.\n\nContact Alicia 978-758-0876 amjohnson22@comcast.net for tickets or to make a donation.
X-ALT-DESC;FMTTYPE=text/html:<div>\n<div><strong><span style="color:rgb(51\, 51\, 51)\; font-family:&amp\;">Put on your &quot\;dancing shoes&quot\; and join us!</span></strong></div>\n</div>\n\n<p><span style="color:rgb(51\, 51\, 51)\; font-family:&amp\;">The Wilmington Sons of Italy is hosting a Motown Dance Party to benefit an organization (Gifts of Love) that supplies diapers and wipes to local families in need (these items are not supplied by federal or state funding).&nbsp\;</span></p>\n\n<p>Feel free to bring your own food!</p>\n\n<p><span style="color:rgb(51\, 51\, 51)\; font-family:&amp\;">There will be a DJ\, raffles\, door prize entry for a diaper donation\, coffee and dessert.</span></p>\n\n<p><span style="color:rgb(51\, 51\, 51)\; font-family:&amp\;">Contact Alicia 978-758-0876 <a href="mailto:amjohnson22@comcast.net" rel="noopener noreferrer" target="_blank">amjohnson22@comcast.net</a>&nbsp\;for tickets or to make a donation.</span></p>\n
LOCATION:Wilmington-Tewksbury Elks 777 South St - Tewksbury\, MA
UID:e.2938.3177
SEQUENCE:3
DTSTAMP:20260426T023758Z
URL:https://business.wilmingtontewksburychamber.org/events/details/motown-dance-party-3177
END:VEVENT

END:VCALENDAR
