BEGIN:VCALENDAR
VERSION:2.0
PRODID:-//ChamberMaster//Event Calendar 2.0//EN
METHOD:PUBLISH
X-PUBLISHED-TTL:P3D
REFRESH-INTERVAL:P3D
CALSCALE:GREGORIAN
BEGIN:VEVENT
DTSTART:20200310T220000Z
DTEND:20200311T000000Z
X-MICROSOFT-CDO-ALLDAYEVENT:FALSE
SUMMARY:Mortgages with Maggie - Free Homebuyer Workshop\, Buying in 2020
DESCRIPTION:First time homebuyers and existing homeowners\, join real estate experts Loan Officer Maggie Ek\, realtor Kate Perrine and Attorney Katie Frazier at our free homebuyer workshop and get all the answers to your real estate questions for buying in 2020!  Bring the kids and friends with you.  All are welcome.  Email Maggie Ek at maggie.ek@rmsmortgage.com or visit https://www.facebook.com/events/3043179129076158/ to sign up.
X-ALT-DESC;FMTTYPE=text/html:First time homebuyers and existing homeowners\, join real estate experts Loan Officer Maggie Ek\, realtor Kate Perrine and Attorney Katie Frazier at our free homebuyer workshop and get all the answers to your real estate questions for buying in 2020!&nbsp\; Bring the kids and friends with you.&nbsp\; All are welcome.&nbsp\; Email Maggie Ek at <a href="mailto:maggie.ek@rmsmortgage.com">maggie.ek@rmsmortgage.com</a> or visit <a href="https://www.facebook.com/events/3043179129076158/">https://www.facebook.com/events/3043179129076158/</a> to sign up.&nbsp\;
LOCATION:99 Restaurant 401 Main St. Tewksbury\, MA 01876
UID:e.2938.6640
SEQUENCE:3
DTSTAMP:20260424T144941Z
URL:https://business.wilmingtontewksburychamber.org/events/details/mortgages-with-maggie-free-homebuyer-workshop-buying-in-2020-6640
END:VEVENT

END:VCALENDAR
