BEGIN:VCALENDAR
VERSION:2.0
PRODID:-//ChamberMaster//Event Calendar 2.0//EN
METHOD:PUBLISH
X-PUBLISHED-TTL:P3D
REFRESH-INTERVAL:P3D
CALSCALE:GREGORIAN
BEGIN:VEVENT
DTSTART:20170404T223000Z
DTEND:20170405T003000Z
X-MICROSOFT-CDO-ALLDAYEVENT:FALSE
SUMMARY:Meet The Candidates Debate
DESCRIPTION:Candidate's Debate for Board of Selectmen and School Committee in Wilmington.
X-ALT-DESC;FMTTYPE=text/html:Candidate&#39\;s Debate for Board of Selectmen and School Committee in Wilmington.
LOCATION:WCTV\, 10 Waltham St.\, Wilmington
UID:e.2938.21
SEQUENCE:3
DTSTAMP:20260425T114916Z
URL:https://business.wilmingtontewksburychamber.org/events/details/meet-the-candidates-debate-21
END:VEVENT

END:VCALENDAR
