BEGIN:VCALENDAR
VERSION:2.0
PRODID:-//ChamberMaster//Event Calendar 2.0//EN
METHOD:PUBLISH
X-PUBLISHED-TTL:P3D
REFRESH-INTERVAL:P3D
CALSCALE:GREGORIAN
BEGIN:VEVENT
DTSTART:20191025T183000Z
DTEND:20191025T193000Z
X-MICROSOFT-CDO-ALLDAYEVENT:FALSE
SUMMARY:Main St. Ribbon Cutting Ceremonies
DESCRIPTION:Please join us in welcoming\n\n			Wilmington Kitchen\n\n			and\n\n			Britt Joyce MT\n\n			\n\n			to Wilmington's Main Street.\n\n			 \n\n			Come by to meet owners\, Steve O'Connor and Britt Joyce\, and learn more about their products & services!\n			\n			\n		\n	\n\n\n\n\n\n	\n		\n			\n			 \n\n			\n			Friday\, October 25th\n\n			2:30 pm @ Wilmington Kitchen\n\n			3:00 pm @ Britt Joyce MT\n\n			 \n\n			~ Light Refreshments ~\n\n			 \n\n			All Welcome
X-ALT-DESC;FMTTYPE=text/html:<div class="gl-contains-text" style="background-color: rgb(255\, 255\, 255)\;">\n<table border="0" cellpadding="0" cellspacing="0" style="border-collapse: collapse\; table-layout: fixed\;" width="100%">\n	<tbody>\n		<tr>\n			<td align="left" class="editor-text " style="-webkit-font-smoothing: antialiased\; font-family: Arial\, Verdana\, Helvetica\, sans-serif\; font-size: 14px\; display: block\; overflow-wrap: break-word\; line-height: 1.2\; padding: 10px 20px 10px 10px\;" valign="top">\n			<div class="text-container galileo-ap-content-editor">\n			<div align="center" style="text-align: center\;"><span style="color:#B22222\;"><span style="font-size: 16px\;">Please join us in welcoming<br />\n			Wilmington Kitchen</span></span></div>\n\n			<div align="center" style="text-align: center\;"><span style="color:#B22222\;"><span style="font-size: 16px\;">and</span></span></div>\n\n			<div align="center" style="text-align: center\;"><span style="color:#B22222\;"><span style="font-size: 16px\;">Britt Joyce MT</span></span></div>\n\n			<div align="center" style="text-align: center\;"><br />\n			<span style="color:#B22222\;"><span style="font-size: 16px\;">to Wilmington&#39\;s Main Street.</span></span></div>\n\n			<div align="center" style="text-align: center\;">&nbsp\;</div>\n\n			<div align="center" style="text-align: center\;"><span style="color:#B22222\;"><span style="font-size: 16px\;">Come by to meet owners\, Steve O&#39\;Connor and Britt Joyce\, and learn more about their products &amp\; services!</span></span></div>\n			</div>\n			</td>\n		</tr>\n	</tbody>\n</table>\n</div>\n\n<div class="gl-contains-text" style="background-color: rgb(255\, 255\, 255)\;">\n<table border="0" cellpadding="0" cellspacing="0" style="border-collapse: collapse\; table-layout: fixed\;" width="100%">\n	<tbody>\n		<tr>\n			<td align="left" class="editor-text article-heading-text" style="-webkit-font-smoothing: antialiased\; font-family: Arial\, Verdana\, Helvetica\, sans-serif\; font-size: 18px\; color: rgb(209\, 230\, 209)\; display: block\; overflow-wrap: break-word\; line-height: 1.2\; font-weight: bold\; padding: 10px 20px 10px 10px\;" valign="top">\n			<div>&nbsp\;</div>\n\n			<div class="text-container galileo-ap-content-editor">\n			<div align="center" style="text-align: center\;"><span style="color:#B22222\;">Friday\, October 25th</span></div>\n\n			<div align="center" style="text-align: center\;"><span style="color:#B22222\;">2:30 pm @ Wilmington Kitchen<br />\n			3:00 pm @ Britt Joyce MT</span><br />\n			&nbsp\;</div>\n\n			<div align="center" style="text-align: center\;"><span style="color:#B22222\;">~ Light Refreshments ~</span></div>\n\n			<div align="center" style="text-align: center\;">&nbsp\;</div>\n\n			<div align="center" style="text-align: center\;"><span style="color:#B22222\;">All Welcome</span></div>\n			</div>\n			</td>\n		</tr>\n	</tbody>\n</table>\n</div>\n
LOCATION:Wilmington Kitchen - 433 Main Street Britt Joyce MT - 420 Main Street Wilmington\, MA 01887
UID:e.2938.6542
SEQUENCE:3
DTSTAMP:20260424T200248Z
URL:https://business.wilmingtontewksburychamber.org/events/details/main-st-ribbon-cutting-ceremonies-6542
END:VEVENT

END:VCALENDAR
