BEGIN:VCALENDAR
VERSION:2.0
PRODID:-//ChamberMaster//Event Calendar 2.0//EN
METHOD:PUBLISH
X-PUBLISHED-TTL:P3D
REFRESH-INTERVAL:P3D
CALSCALE:GREGORIAN
BEGIN:VEVENT
DTSTART:20190504T030000Z
DTEND:20190505T210000Z
X-MICROSOFT-CDO-ALLDAYEVENT:FALSE
SUMMARY:La Scala Bridal Shoppe Trunk Event
DESCRIPTION:La Scala Bridal Shoppe Trunk Show\n\n\n\nThe trunk show will showcase the bridal line Enzoani at La Scala Bridal Shoppe 1875 Main Street\, Tewksbury\, MA 01876 from May 3rd\, 2019 until May 5th\, 2019 from 11:00 AM until 5:00 PM.  If the bride-to-be purchases an Enzoani gown during this time\, she will receive 10% off her purchase.\n\n \n\nFor another further information or to book an appointment\, they should call La Scala Bridal Shoppe 978-221-5612 and speak to Maria.
X-ALT-DESC;FMTTYPE=text/html:<p style="font-family: Calibri\, sans-serif\; font-size: 11pt\; font-variant-numeric: normal\; font-variant-east-asian: normal\; line-height: 15pt\; margin: 0px\;"><span style="border-bottom-color: currentColor\; border-bottom-style: none\; border-bottom-width: 0px\; border-image-outset: 0\; border-image-repeat: stretch\; border-image-slice: 100%\; border-image-source: none\; border-image-width: 1\; border-left-color: currentColor\; border-left-style: none\; border-left-width: 0px\; border-right-color: currentColor\; border-right-style: none\; border-right-width: 0px\; border-top-color: currentColor\; border-top-style: none\; border-top-width: 0px\; color: rgb(34\, 34\, 34)\; font-family: Arial\,sans-serif\; font-size: 10pt\; font-size-adjust: none\; font-stretch: inherit\; font-style: inherit\; font-variant: inherit\; font-weight: inherit\; line-height: inherit\; margin-bottom: 0px\; margin-left: 0px\; margin-right: 0px\; margin-top: 0px\; padding-bottom: 0px\; padding-left: 0px\; padding-right: 0px\; padding-top: 0px\; vertical-align: baseline\;">La Scala Bridal Shoppe Trunk Show<br />\n<br />\nThe trunk show will showcase the bridal line Enzoani at La Scala Bridal Shoppe 1875 Main Street\, Tewksbury\, MA 01876 from May 3rd\, 2019 until May 5th\, 2019 from 11:00 AM until 5:00 PM.&nbsp\; If the bride-to-be purchases an Enzoani gown during this time\, she will receive 10% off her purchase.</span></p>\n\n<p style="font-family: Calibri\, sans-serif\; font-size: 11pt\; font-variant-numeric: normal\; font-variant-east-asian: normal\; line-height: 15pt\; margin: 0px\;"><span style="border-bottom-color: currentColor\; border-bottom-style: none\; border-bottom-width: 0px\; border-image-outset: 0\; border-image-repeat: stretch\; border-image-slice: 100%\; border-image-source: none\; border-image-width: 1\; border-left-color: currentColor\; border-left-style: none\; border-left-width: 0px\; border-right-color: currentColor\; border-right-style: none\; border-right-width: 0px\; border-top-color: currentColor\; border-top-style: none\; border-top-width: 0px\; color: rgb(34\, 34\, 34)\; font-family: Arial\,sans-serif\; font-size: 10pt\; font-size-adjust: none\; font-stretch: inherit\; font-style: inherit\; font-variant: inherit\; font-weight: inherit\; line-height: inherit\; margin-bottom: 0px\; margin-left: 0px\; margin-right: 0px\; margin-top: 0px\; padding-bottom: 0px\; padding-left: 0px\; padding-right: 0px\; padding-top: 0px\; vertical-align: baseline\;">&nbsp\;</span></p>\n\n<p style="font-family: Calibri\, sans-serif\; font-size: 11pt\; font-variant-numeric: normal\; font-variant-east-asian: normal\; line-height: 15pt\; margin: 0px\;"><span style="border-bottom-color: currentColor\; border-bottom-style: none\; border-bottom-width: 0px\; border-image-outset: 0\; border-image-repeat: stretch\; border-image-slice: 100%\; border-image-source: none\; border-image-width: 1\; border-left-color: currentColor\; border-left-style: none\; border-left-width: 0px\; border-right-color: currentColor\; border-right-style: none\; border-right-width: 0px\; border-top-color: currentColor\; border-top-style: none\; border-top-width: 0px\; color: rgb(34\, 34\, 34)\; font-family: Arial\,sans-serif\; font-size: 10pt\; font-size-adjust: none\; font-stretch: inherit\; font-style: inherit\; font-variant: inherit\; font-weight: inherit\; line-height: inherit\; margin-bottom: 0px\; margin-left: 0px\; margin-right: 0px\; margin-top: 0px\; padding-bottom: 0px\; padding-left: 0px\; padding-right: 0px\; padding-top: 0px\; vertical-align: baseline\;">For another further information or to book an appointment\, they should call La Scala Bridal Shoppe 978-221-5612 and speak to Maria.</span></p>\n
LOCATION:La Scala Bridal Shoppe 1875 Main Street Tewksbury\, MA 01876
UID:e.2938.5286
SEQUENCE:3
DTSTAMP:20260425T025939Z
URL:https://business.wilmingtontewksburychamber.org/events/details/la-scala-bridal-shoppe-trunk-event-5286
END:VEVENT

END:VCALENDAR
