BEGIN:VCALENDAR
VERSION:2.0
PRODID:-//ChamberMaster//Event Calendar 2.0//EN
METHOD:PUBLISH
X-PUBLISHED-TTL:P3D
REFRESH-INTERVAL:P3D
CALSCALE:GREGORIAN
BEGIN:VEVENT
DTSTART:20180924T160000Z
DTEND:20180924T220000Z
X-MICROSOFT-CDO-ALLDAYEVENT:FALSE
SUMMARY:Kraft Family Blood Drive
DESCRIPTION:Kraft Family Blood Drive \n\nHosted By Tewksbury Country Clun\n\n1880 Main Street\, Tewksbury\n\n\n\nAppointments: tinyurl.com/TewksSept2018\n\n\n\nQuestions: Email blooddonor@partners.org or call 617-632-3206\n\n\n\nPhoto ID Required
X-ALT-DESC;FMTTYPE=text/html:Kraft Family Blood Drive&nbsp\;<br />\nHosted By Tewksbury Country Clun<br />\n1880 Main Street\, Tewksbury<br />\n<br />\nAppointments: tinyurl.com/TewksSept2018<br />\n<br />\nQuestions: Email blooddonor@partners.org or call 617-632-3206<br />\n<br />\nPhoto ID Required
LOCATION:Tewksbury Country Club 1880 Main Street Tewksbury\, MA 01876
UID:e.2938.5226
SEQUENCE:3
DTSTAMP:20260425T174737Z
URL:https://business.wilmingtontewksburychamber.org/events/details/kraft-family-blood-drive-5226
END:VEVENT

END:VCALENDAR
