BEGIN:VCALENDAR
VERSION:2.0
PRODID:-//ChamberMaster//Event Calendar 2.0//EN
METHOD:PUBLISH
X-PUBLISHED-TTL:P3D
REFRESH-INTERVAL:P3D
CALSCALE:GREGORIAN
BEGIN:VEVENT
DTSTART:20190216T150000Z
DTEND:20190219T000000Z
X-MICROSOFT-CDO-ALLDAYEVENT:FALSE
SUMMARY:Kids Fun Fair
DESCRIPTION:Kids Fun Fair Our kids fun fairs\, held year-round up and down the east coast\, are a fun\, friendly\, and safe place to bring your family! We have rides\, games\, and a unique chance to interact with animals. Children 12 and under free with coupon. Price for adults ONLINE $10. Price for adults at the event $18. Free children coupons are available at local businesses or at front box office during event Rides and other vendors inside are an additional cost. For ride prices go to www.commerfordzoo.com Call For Details (860)491-3421
X-ALT-DESC;FMTTYPE=text/html:Kids Fun Fair Our kids fun fairs\, held year-round up and down the east coast\, are a fun\, friendly\, and safe place to bring your family! We have rides\, games\, and a unique chance to interact with animals. Children 12 and under free with coupon. Price for adults ONLINE $10. Price for adults at the event $18. Free children coupons are available at local businesses or at front box office during event Rides and other vendors inside are an additional cost. For ride prices go to www.commerfordzoo.com Call For Details (860)491-3421
LOCATION:Aleppo Shriners Auditorium\, 99 Fordham Rd\, Wilmington\, MA 01887
UID:e.2938.5260
SEQUENCE:3
DTSTAMP:20260425T115235Z
URL:https://business.wilmingtontewksburychamber.org/events/details/kids-fun-fair-5260
END:VEVENT

END:VCALENDAR
