BEGIN:VCALENDAR
VERSION:2.0
PRODID:-//ChamberMaster//Event Calendar 2.0//EN
METHOD:PUBLISH
X-PUBLISHED-TTL:P3D
REFRESH-INTERVAL:P3D
CALSCALE:GREGORIAN
BEGIN:VEVENT
DTSTART:20191207T213000Z
DTEND:20191207T233000Z
X-MICROSOFT-CDO-ALLDAYEVENT:FALSE
SUMMARY:Ice Sculpture @ Wilmington Tree Lighting Holiday Celebration
DESCRIPTION:The Wilmington/Tewksbury Chamber of Commerce and some of it's members will sponsor an ice sculpture demonstration/display to add to the town's holiday celebration.  Come watch 1\,500 lbs. of ICE take shape.  Can you guess what the design will be?
X-ALT-DESC;FMTTYPE=text/html:The Wilmington/Tewksbury Chamber of Commerce and some of it's members will sponsor an ice sculpture demonstration/display to add to the town's holiday celebration.&nbsp\; Come watch 1\,500 lbs. of ICE take shape.&nbsp\; Can you guess what the design will be?<br>\n&nbsp\;
LOCATION:Wilmington Town Common
UID:e.2938.6552
SEQUENCE:3
DTSTAMP:20260424T111405Z
URL:https://business.wilmingtontewksburychamber.org/events/details/ice-sculpture-wilmington-tree-lighting-holiday-celebration-6552
END:VEVENT

END:VCALENDAR
