BEGIN:VCALENDAR
VERSION:2.0
PRODID:-//ChamberMaster//Event Calendar 2.0//EN
METHOD:PUBLISH
X-PUBLISHED-TTL:P3D
REFRESH-INTERVAL:P3D
CALSCALE:GREGORIAN
BEGIN:VEVENT
DTSTART:20181201T213000Z
DTEND:20181201T233000Z
X-MICROSOFT-CDO-ALLDAYEVENT:FALSE
SUMMARY:Ice Sculpture @ Wilmington Tree Lighting Holiday Celebration
DESCRIPTION:The Wilmington/Tewksbury Chamber of Commerce and some of it's members will sponsor an ice sculpture demonstration/display to add to the town's holiday celebration.  Come watch 1\,600 lbs. of ICE take shape.  Can you guess what the design will be?\n\n\n\nThank You To Our 2018\n\nIce Sculpture Sponsors:\n\nWilmington/Tewksbury Chamber of Commerce\n\nAlign Credit Union \n\nCareOne at Wilmington \n\nFully Promoted \n\nLowell Five Bank\n\nMark Kratman \n\nPearle Vision \n\nRE/MAX Encore\, Jacquelyn Santini  \n\nRTN Federal Credit Union\n\nSalem Five Bank\n\nSavers \n\nThe Self-Defense Institute \n\nWinbrook
X-ALT-DESC;FMTTYPE=text/html:The Wilmington/Tewksbury Chamber of Commerce and some of it&#39\;s members will sponsor an ice sculpture demonstration/display to add to the town&#39\;s holiday celebration.&nbsp\; Come watch 1\,600 lbs. of ICE take shape.&nbsp\; Can you guess what the design will be?<br />\n<br />\n<span style="color:#FF0000\;"><strong>Thank You To Our 2018<br />\nIce Sculpture Sponsors:</strong></span><br />\nWilmington/Tewksbury Chamber of Commerce<br />\nAlign Credit Union&nbsp\;<br />\nCareOne at Wilmington&nbsp\;<br />\nFully Promoted&nbsp\;<br />\nLowell Five Bank<br />\nMark Kratman&nbsp\;<br />\nPearle Vision&nbsp\;<br />\nRE/MAX Encore\, Jacquelyn Santini&nbsp\;&nbsp\;<br />\nRTN Federal Credit Union<br />\nSalem Five Bank<br />\nSavers&nbsp\;<br />\nThe Self-Defense Institute&nbsp\;<br />\nWinbrook&nbsp\;<br />\n<br />\n<br />\n&nbsp\;
LOCATION:Wilmington Town Common
UID:e.2938.5238
SEQUENCE:3
DTSTAMP:20260425T115424Z
URL:https://business.wilmingtontewksburychamber.org/events/details/ice-sculpture-wilmington-tree-lighting-holiday-celebration-5238
END:VEVENT

END:VCALENDAR
