BEGIN:VCALENDAR
VERSION:2.0
PRODID:-//ChamberMaster//Event Calendar 2.0//EN
METHOD:PUBLISH
X-PUBLISHED-TTL:P3D
REFRESH-INTERVAL:P3D
CALSCALE:GREGORIAN
BEGIN:VEVENT
DTSTART:20191206T230000Z
DTEND:20191207T010000Z
X-MICROSOFT-CDO-ALLDAYEVENT:FALSE
SUMMARY:Ice Sculpture @ Tewksbury Tree Lighting Holiday Celebration
DESCRIPTION:The Wilmington/Tewksbury Chamber of Commerce and some of it's members are donating a holiday themed ice sculpture to add to the town's holiday celebration.  Come check it out!
X-ALT-DESC;FMTTYPE=text/html:The Wilmington/Tewksbury Chamber of Commerce and some of it&#39\;s members are donating a holiday themed ice sculpture to add to the town&#39\;s holiday celebration.&nbsp\; Come check it out!
LOCATION:Tewksbury Town Common
UID:e.2938.6551
SEQUENCE:3
DTSTAMP:20260424T111708Z
URL:https://business.wilmingtontewksburychamber.org/events/details/ice-sculpture-tewksbury-tree-lighting-holiday-celebration-6551
END:VEVENT

END:VCALENDAR
