BEGIN:VCALENDAR
VERSION:2.0
PRODID:-//ChamberMaster//Event Calendar 2.0//EN
METHOD:PUBLISH
X-PUBLISHED-TTL:P3D
REFRESH-INTERVAL:P3D
CALSCALE:GREGORIAN
BEGIN:VEVENT
DTSTART:20181130T230000Z
DTEND:20181201T010000Z
X-MICROSOFT-CDO-ALLDAYEVENT:FALSE
SUMMARY:Ice Sculpture @ Tewksbury Tree Lighting Holiday Celebration
DESCRIPTION:The Wilmington/Tewksbury Chamber of Commerce and some of it's members are donating a holiday themed ice sculpture to add to the town's holiday celebration.  Come check it out!\n\n \nThank You to our 2018\n\nIce Sculpture Sponsors\n\nWilmington/Tewksbury Chamber of Commerce\n\nAlign Credit Union \n\nCareOne at Wilmington \n\nFully Promoted \n\nLowell Five Bank\n\nMark Kratman \n\nPearle Vision \n\nRE/MAX Encore\, Jacquelyn Santini  \n\nRTN Federal Credit Union\n\nSalem Five Bank\n\nSavers \n\nThe Self-Defense Institute \n\nWinbrook
X-ALT-DESC;FMTTYPE=text/html:The Wilmington/Tewksbury Chamber of Commerce and some of it&#39\;s members are donating a holiday themed ice sculpture to add to the town&#39\;s holiday celebration.&nbsp\; Come check it out!<br />\n&nbsp\;\n<div><strong><span style="color:#FF0000\;">Thank You to our 2018</span></strong></div>\n\n<div><strong><span style="color:#FF0000\;">Ice Sculpture Sponsors</span></strong><br />\nWilmington/Tewksbury Chamber of Commerce<br />\nAlign Credit Union&nbsp\;<br />\nCareOne at Wilmington&nbsp\;<br />\nFully Promoted&nbsp\;<br />\nLowell Five Bank<br />\nMark Kratman&nbsp\;<br />\nPearle Vision&nbsp\;<br />\nRE/MAX Encore\, Jacquelyn Santini&nbsp\;&nbsp\;<br />\nRTN Federal Credit Union<br />\nSalem Five Bank<br />\nSavers&nbsp\;<br />\nThe Self-Defense Institute&nbsp\;<br />\nWinbrook&nbsp\;</div>\n\n<div>&nbsp\;</div>\n\n<div>&nbsp\;</div>\n
LOCATION:Tewksbury Town Common
UID:e.2938.5237
SEQUENCE:3
DTSTAMP:20260425T134714Z
URL:https://business.wilmingtontewksburychamber.org/events/details/ice-sculpture-tewksbury-tree-lighting-holiday-celebration-5237
END:VEVENT

END:VCALENDAR
