BEGIN:VCALENDAR
VERSION:2.0
PRODID:-//ChamberMaster//Event Calendar 2.0//EN
METHOD:PUBLISH
X-PUBLISHED-TTL:P3D
REFRESH-INTERVAL:P3D
CALSCALE:GREGORIAN
BEGIN:VEVENT
DTSTART:20190506T143000Z
DTEND:20190506T153000Z
X-MICROSOFT-CDO-ALLDAYEVENT:FALSE
SUMMARY:How to Start and Grow Your Business with the SBA
DESCRIPTION:Learn how the Small Business Administration can assist your dream of starting your own business. Generation information will be provided on the following programs and services: (1) Counseling/Technical Assistance through SBA resource partners\; (2) SCORE\; (3) Small Business Development Centers\; (4) Center for Woman & Enterprise Access to Capital\; (5) SBA Advance Loan Guaranty Program\; and (6) Government Contract Opportunities. \n\n \n\nLed by Lisa Gonzalez Welch\, Economic Development Specialist with the SBA. \n\n \n\nSponsored by the Friends of the Library.
X-ALT-DESC;FMTTYPE=text/html:Learn how the Small Business Administration can assist your dream of starting your own business. Generation information will be provided on the following programs and services: (1) Counseling/Technical Assistance through SBA resource partners\; (2) SCORE\; (3) Small Business Development Centers\; (4) Center for Woman &amp\; Enterprise Access to Capital\; (5) SBA Advance Loan Guaranty Program\; and (6) Government Contract Opportunities.&nbsp\;<br />\n&nbsp\;<br />\nLed by Lisa Gonzalez Welch\, Economic Development Specialist with the SBA.&nbsp\;<br />\n&nbsp\;<br />\nSponsored by the Friends of the Library.
LOCATION:Tewksbury Public Library 300 Chandler Street Tewksbury\, MA
UID:e.2938.5287
SEQUENCE:3
DTSTAMP:20260425T030408Z
URL:https://business.wilmingtontewksburychamber.org/events/details/how-to-start-and-grow-your-business-with-the-sba-5287
END:VEVENT

END:VCALENDAR
