BEGIN:VCALENDAR
VERSION:2.0
PRODID:-//ChamberMaster//Event Calendar 2.0//EN
METHOD:PUBLISH
X-PUBLISHED-TTL:P3D
REFRESH-INTERVAL:P3D
CALSCALE:GREGORIAN
BEGIN:VEVENT
DTSTART:20180329T223000Z
DTEND:20180330T000000Z
X-MICROSOFT-CDO-ALLDAYEVENT:FALSE
SUMMARY:How To Grow Your Business Exponentially Using Social Media Marketing
DESCRIPTION:Many businesses utilize social media marketing to connect with their community\, but these initiatives need to be strategically executed to effectively attract\, convert\, and retain customers. Businesses often don't utilize the true power of social media marketing  simply posting random news articles and not strategically targeting paid advertisements often is a waste of time and money. Learn how to convert people who view your posts into business that will fuel your growth in the coming year. In this seminar\, learn how to plan\, build\, and maintain effective social media campaigns that achieve a high ROI and grow your business. We will review how to strategically use hashtags\, plan an effective mix of posts\, and how individual businesses should adapt their strategy amongst the different platforms. While everyone that wants to learn is welcome to attend\, this session will be most beneficial for small and medium sized business owners or marketing managers who are looking to take their business to the next level by establishing a social media marketing strategy\, or refining one that is not achieving your desired results.
X-ALT-DESC;FMTTYPE=text/html:Many businesses utilize social media marketing to connect with their community\, but these initiatives need to be strategically executed to effectively attract\, convert\, and retain customers. Businesses often don&rsquo\;t utilize the true power of social media marketing&mdash\; simply posting random news articles and not strategically targeting paid advertisements often is a waste of time and money. Learn how to convert people who view your posts into business that will fuel your growth in the coming year. In this seminar\, learn how to plan\, build\, and maintain effective social media campaigns that achieve a high ROI and grow your business. We will review how to strategically use hashtags\, plan an effective mix of posts\, and how individual businesses should adapt their strategy amongst the different platforms. While everyone that wants to learn is welcome to attend\, this session will be most beneficial for small and medium sized business owners or marketing managers who are looking to take their business to the next level by establishing a social media marketing strategy\, or refining one that is not achieving your desired results.
LOCATION:Office Evolution 2 Burlington Woods #100 Burlington\, MA 01803
UID:e.2938.3161
SEQUENCE:3
DTSTAMP:20260426T043909Z
URL:https://business.wilmingtontewksburychamber.org/events/details/how-to-grow-your-business-exponentially-using-social-media-marketing-3161
END:VEVENT

END:VCALENDAR
