BEGIN:VCALENDAR
VERSION:2.0
PRODID:-//ChamberMaster//Event Calendar 2.0//EN
METHOD:PUBLISH
X-PUBLISHED-TTL:P3D
REFRESH-INTERVAL:P3D
CALSCALE:GREGORIAN
BEGIN:VEVENT
DTSTART:20190521T114500Z
DTEND:20190521T130000Z
X-MICROSOFT-CDO-ALLDAYEVENT:FALSE
SUMMARY:How to Build A Facebook Ad
DESCRIPTION:Do you want to get your business noticed on social media?\n\n \n\nJoin us along with members of the Reading/North Reading Chamber of Commerce and Reading Cooperative Bank's Marketing Team to learn the difference between a Facebook Boost and Ad and how to create your own Facebook Advertisement.\n\n \n\nThis member requested\, hands-on session will explore the mechanics of creating a Facebook ad and how to target your ad to desired audiences.
X-ALT-DESC;FMTTYPE=text/html:<div style="color: rgb(56\, 123\, 55)\; font-family: Arial\; font-size: 12px\; font-variant-numeric: normal\; font-variant-east-asian: normal\; white-space: pre-wrap\;"><span style="color: rgb(30\, 10\, 8)\;">Do you want to get your business noticed on social media?</span></div>\n\n<div style="color: rgb(56\, 123\, 55)\; font-family: Arial\; font-size: 12px\; font-variant-numeric: normal\; font-variant-east-asian: normal\; white-space: pre-wrap\;">&nbsp\;</div>\n\n<div style="color: rgb(56\, 123\, 55)\; font-family: Arial\; font-size: 12px\; font-variant-numeric: normal\; font-variant-east-asian: normal\; white-space: pre-wrap\;"><span style="color: rgb(30\, 10\, 8)\;">Join us along with members of the Reading/North Reading Chamber of Commerce and Reading Cooperative Bank&#39\;s Marketing Team to learn the difference between a Facebook Boost and Ad and how to create your own Facebook Advertisement.</span></div>\n\n<div style="color: rgb(56\, 123\, 55)\; font-family: Arial\; font-size: 12px\; font-variant-numeric: normal\; font-variant-east-asian: normal\; white-space: pre-wrap\;">&nbsp\;</div>\n\n<div style="color: rgb(56\, 123\, 55)\; font-family: Arial\; font-size: 12px\; font-variant-numeric: normal\; font-variant-east-asian: normal\; white-space: pre-wrap\;"><span style="color: rgb(30\, 10\, 8)\;">This member requested\, hands-on session will explore the mechanics of creating a Facebook ad and how to target your ad to desired audiences.&nbsp\;</span></div>\n
LOCATION:Reading Cooperative Bank 3rd Floor Training Room 55 Walker's Brook Drive\, Reading
UID:e.2938.5288
SEQUENCE:3
DTSTAMP:20260425T025923Z
URL:https://business.wilmingtontewksburychamber.org/events/details/how-to-build-a-facebook-ad-5288
END:VEVENT

END:VCALENDAR
