BEGIN:VCALENDAR
VERSION:2.0
PRODID:-//ChamberMaster//Event Calendar 2.0//EN
METHOD:PUBLISH
X-PUBLISHED-TTL:P3D
REFRESH-INTERVAL:P3D
CALSCALE:GREGORIAN
BEGIN:VEVENT
DTSTART:20190917T210000Z
DTEND:20190917T220000Z
X-MICROSOFT-CDO-ALLDAYEVENT:FALSE
SUMMARY:HOMEBUYING SEMINAR
DESCRIPTION:QUESTIONS ABOUT HOMEBUYING? \nCOME ASK OUR EXPERTS!\n\n\n\nRSVP TODAY AT 781-376-2825
X-ALT-DESC;FMTTYPE=text/html:QUESTIONS ABOUT HOMEBUYING?&nbsp\;\n<div>COME ASK OUR EXPERTS!<br />\n<br />\nRSVP TODAY AT 781-376-2825</div>\n
LOCATION:Wilmington Memorial Library 175 Middlesex Avenue Wilmington\, MA 01887
UID:e.2938.5539
SEQUENCE:3
DTSTAMP:20260424T200224Z
URL:https://business.wilmingtontewksburychamber.org/events/details/homebuying-seminar-5539
END:VEVENT

END:VCALENDAR
