BEGIN:VCALENDAR
VERSION:2.0
PRODID:-//ChamberMaster//Event Calendar 2.0//EN
METHOD:PUBLISH
X-PUBLISHED-TTL:P3D
REFRESH-INTERVAL:P3D
CALSCALE:GREGORIAN
BEGIN:VEVENT
DTSTART:20210210T130000Z
DTEND:20210210T140000Z
X-MICROSOFT-CDO-ALLDAYEVENT:FALSE
SUMMARY:Helping Small Businesses through the Pandemic
DESCRIPTION:There is a lot of information that is changing rapidly.  As a business owner\, it can be overwhelming.  Join this forum for the opportunity to meet directly with the Small Business Administration District Director for Massachusetts Bob Nelson and the Mass Growth Capital Corporation President and CEO Larry Andrews.  Bring your questions and answers about available state and federal assistance programs and resources for small businesses and non-profits.
X-ALT-DESC;FMTTYPE=text/html:<span style="font-family: arial\, sans-serif\; font-size: 13.3333px\; background-color: rgb(255\, 255\, 255)\;">There is a lot of information that is changing rapidly.&nbsp\; As a business owner\, it can be overwhelming.&nbsp\; Join this forum for the opportunity to meet directly with&nbsp\;the Small Business Administration District Director for Massachusetts&nbsp\;</span><span style="box-sizing: content-box\; font-weight: bolder\; inset: auto\; clear: none\; content: normal\; direction: inherit\; empty-cells: show\; font-variant-numeric: inherit\; font-variant-east-asian: inherit\; font-stretch: inherit\; font-size: 13.3333px\; font-family: arial\, sans-serif\; line-height: inherit\; margin: 0px\; max-height: none\; max-width: none\; min-height: initial\; min-width: initial\; opacity: 1\; outline-offset: 0px\; overflow: visible\; padding: 0px\; position: static\; resize: none\; table-layout: auto\; text-overflow: clip\; vertical-align: baseline\; visibility: inherit\; word-break: inherit\; overflow-wrap: inherit\; z-index: auto\; background: none rgb(255\, 255\, 255)\; border: none\; border-collapse: separate\; border-radius: 0px\; height: auto\; width: auto\; box-shadow: none\;">Bob Nelson</span><span style="font-family: arial\, sans-serif\; font-size: 13.3333px\; background-color: rgb(255\, 255\, 255)\;">&nbsp\;and the Mass Growth Capital Corporation President and CEO&nbsp\;</span><span style="box-sizing: content-box\; font-weight: bolder\; inset: auto\; clear: none\; content: normal\; direction: inherit\; empty-cells: show\; font-variant-numeric: inherit\; font-variant-east-asian: inherit\; font-stretch: inherit\; font-size: 13.3333px\; font-family: arial\, sans-serif\; line-height: inherit\; margin: 0px\; max-height: none\; max-width: none\; min-height: initial\; min-width: initial\; opacity: 1\; outline-offset: 0px\; overflow: visible\; padding: 0px\; position: static\; resize: none\; table-layout: auto\; text-overflow: clip\; vertical-align: baseline\; visibility: inherit\; word-break: inherit\; overflow-wrap: inherit\; z-index: auto\; background: none rgb(255\, 255\, 255)\; border: none\; border-collapse: separate\; border-radius: 0px\; height: auto\; width: auto\; box-shadow: none\;">Larry Andrews.&nbsp\;&nbsp\;</span><span style="font-family: arial\, sans-serif\; font-size: 13.3333px\; background-color: rgb(255\, 255\, 255)\;">Bring your questions and answers about available state and federal assistance programs and resources for small businesses and non-profits.</span>
LOCATION:
UID:e.2938.6664
SEQUENCE:3
DTSTAMP:20260425T122800Z
URL:https://business.wilmingtontewksburychamber.org/events/details/helping-small-businesses-through-the-pandemic-6664
END:VEVENT

END:VCALENDAR
