BEGIN:VCALENDAR
VERSION:2.0
PRODID:-//ChamberMaster//Event Calendar 2.0//EN
METHOD:PUBLISH
X-PUBLISHED-TTL:P3D
REFRESH-INTERVAL:P3D
CALSCALE:GREGORIAN
BEGIN:VEVENT
DTSTART:20180626T140000Z
DTEND:20180626T160000Z
X-MICROSOFT-CDO-ALLDAYEVENT:FALSE
SUMMARY:Grand Re-Opening & Ribbon Cutting @ Heav'nly Donuts
DESCRIPTION:Please join us at the Grand Re-Opening of Heav'nly Donuts.  \n\nCome celebrate with new Owner\, Chris Kombouras and his team.\n\nEnjoy free coffee\, face painting\, music & giveaways\, and help the Chamber and\n\nState/Town officials with the BIG scissors at an official ribbon cutting ceremony at 11 am.
X-ALT-DESC;FMTTYPE=text/html:<p>Please join us at the Grand Re-Opening of Heav&#39\;nly Donuts.&nbsp\;&nbsp\;<br />\nCome celebrate with new Owner\, Chris Kombouras&nbsp\;and his team.<br />\nEnjoy free coffee\, face painting\, music &amp\; giveaways\, and help the Chamber and<br />\nState/Town officials&nbsp\;with the BIG scissors at an official ribbon cutting ceremony at 11 am.</p>\n
LOCATION:Heav'nly Donuts 579 Main Street Wilmington
UID:e.2938.3200
SEQUENCE:3
DTSTAMP:20260426T001441Z
URL:https://business.wilmingtontewksburychamber.org/events/details/grand-re-opening-ribbon-cutting-heav-nly-donuts-3200
END:VEVENT

END:VCALENDAR
