BEGIN:VCALENDAR
VERSION:2.0
PRODID:-//ChamberMaster//Event Calendar 2.0//EN
METHOD:PUBLISH
X-PUBLISHED-TTL:P3D
REFRESH-INTERVAL:P3D
CALSCALE:GREGORIAN
BEGIN:VEVENT
DTSTART:20190916T210000Z
DTEND:20190916T230000Z
X-MICROSOFT-CDO-ALLDAYEVENT:FALSE
SUMMARY:Grand Opening & Ribbon Cutting
DESCRIPTION:Please join us in welcoming Hatfield's Healing Hands and breathe 'n believe to our business community.\n\n\n\nCome by to meet owners\, Courtney Hatfield and Jeanine Tamboli and learn more about their services!\n\n\n\nRibbon Cutting @ 6:00 pm\n\n~ Light Refreshments ~
X-ALT-DESC;FMTTYPE=text/html:Please join us in welcoming Hatfield&#39\;s Healing Hands and breathe &#39\;n believe to our business community.<br />\n<br />\nCome by to meet owners\, Courtney Hatfield and Jeanine Tamboli and learn more about their services!<br />\n<br />\nRibbon Cutting @ 6:00 pm<br />\n~ Light Refreshments ~
LOCATION:Hatfield's Healing Hands & breath 'n believe 5 Middlesex Avenue\, Unit 15A Wilmington\, MA 01887
UID:e.2938.5519
SEQUENCE:3
DTSTAMP:20260424T214534Z
URL:https://business.wilmingtontewksburychamber.org/events/details/grand-opening-ribbon-cutting-5519
END:VEVENT

END:VCALENDAR
