BEGIN:VCALENDAR
VERSION:2.0
PRODID:-//ChamberMaster//Event Calendar 2.0//EN
METHOD:PUBLISH
X-PUBLISHED-TTL:P3D
REFRESH-INTERVAL:P3D
CALSCALE:GREGORIAN
BEGIN:VEVENT
DTSTART;VALUE=DATE:20180803
DTEND;VALUE=DATE:20180804
TRANSP:TRANSPARENT
X-MICROSOFT-CDO-ALLDAYEVENT:TRUE
SUMMARY:Grand Opening Celebration - TYL Cycle
DESCRIPTION:Grand Opening Celebration \n\nFriday\, August 3rd 2018\n\nAll classes are FREE that day for \n\nTYL CYCLE! \n\n\n\n  Sign up today for your FREE (grand opening special - indoor cycling classes) to be held on Friday\, August 3rd. Or come by on the 3rd to check out the new and improved studio space and celebrate with us! More info to follow in the next few days!!! \n\nHere is a list of the classes we are offering that day.... space is limited... so sign up today for your free CYCLING CLASSES ONLY on Friday\, the 3rd of August.  www.yogaloftnorth.com\n\n5:30am - HiiT Cycle with Jen. This is a 30 minute HIIT class with a 15 minute dynamic stretch after class. This fast moving class will be sure to get your blood pumping and your body moving.... starting your day off right! \n\n    8:45am - Indoor Cycling with Andrea. This 60 minute high-intensity\, low-impact cycling class.. focusing on building endurance and strength. Pedaling through hill climbs\, flats\, sprints\, jumps\, and other indoor cycling drills. Lights will be low and music will be high... all while burning tons of calories. Get ready to sweat! \n\n     12 noon - Lunch express with Jen. Who needs afternoon coffee when you have this class!!! This high-intensity\, low-impact cycling class.. focusing on building endurance and strength. Pedaling through hill climbs\, flats\, sprints\, jumps\, and other indoor cycling drills. Lights will be low and music will be high... all while burning tons of calories. \n\n    5:30 pm - BEGINNER indoor cycling with Dianne. This 45 minute class will spend extra time getting each participant properly set up on their bike. Making for a safe\, efficient\, and effective ride. This class will help the new rider develop a solid foundation for indoor cycling.. working on building endurance and muscle strength. Go at your own pace for this 20 minute ride. Lights will be low and music will be pumping.... while you try something new and have fun with this low-impact cardio workout. \n\n     6:30pm - Indoor Cycling with Dianne. This 45 minute high-intensity\, low-impact cycling class.. focusing on building endurance and strength. Pedaling through hill climbs\, flats\, sprints\, jumps\, and other indoor cycling drills. Lights will be low and music will be high... all while burning tons of calories. Get ready to sweat!\n\nThank you to all our clients for all the love and support! Let's ride!
X-ALT-DESC;FMTTYPE=text/html:<div style="background-color: transparent\; color: rgb(33\, 33\, 33)\; font-size: 15px\; font-variant-numeric: normal\; font-variant-east-asian: normal\; margin-bottom: 6px\;"><font color="#1d2129" face="system-ui\,-apple-system\,BlinkMacSystemFont\,.SFNSText-Regular\,sans-serif" style="color: rgb(29\, 33\, 41)\; font-family: system-ui\,-apple-system\,BlinkMacSystemFont\,.SFNSText-Regular\,sans-serif\; font-size: 13.33px\;"><span style="font-size: 14px\;">Grand Opening Celebration&nbsp\;<br />\nFriday\, August 3rd 2018<br />\nAll classes are FREE that day for&nbsp\;<br />\nTYL CYCLE!&nbsp\;</span></font><br />\n<br />\n<font color="#1d2129" face="system-ui\,-apple-system\,BlinkMacSystemFont\,.SFNSText-Regular\,sans-serif" style="background-color: transparent\; color: rgb(29\, 33\, 41)\; font-size: 13.33px\; font-variant-numeric: normal\; font-variant-east-asian: normal\;"><span style="font-size: 14px\;"><font face="inherit"><font face="inherit" size="1"><span style="font-size: 0px\;">&#11088\;&#65039\;</span></font>Sign up today for your FREE (grand opening special - indoor cycling classes) to be held on Friday\, August 3rd. Or come by on the 3rd to check out the new and improved studio space and celebrate with us! More info to follow in the next few days!!!&nbsp\;</font></span></font></div>\n\n<div style="margin-bottom: 6px\; margin-top: 6px\;"><font color="#1d2129" face="system-ui\,-apple-system\,BlinkMacSystemFont\,.SFNSText-Regular\,sans-serif" style="background-color: transparent\; color: rgb(29\, 33\, 41)\; font-size: 13.33px\; font-variant-numeric: normal\; font-variant-east-asian: normal\;"><span style="font-size: 14px\;"><font face="inherit">Here is a list of the classes we are offering that day.... space is limited... so sign up today for your free CYCLING CLASSES ONLY on Friday\, the 3rd of August.&nbsp\;&nbsp\;<a data-auth="NotApplicable" href="https://l.facebook.com/l.php?u=http%3A%2F%2Fwww.yogaloftnorth.com%2F&amp\;h=AT2MQU54YSA2Q_FxM2nnx2WB_l2ECswBmDy--SiwkzmGtYffMkV10kg0gy1pdh3jFqTgfk_BLLxJs9m1S4h1lNhBL947ZOl6tZXfBUMmUhL5Bl5kViyxoY9j2cJmm95qBXjdjiZnRODm8vuYqXkIsQ1qLdqbKDI" rel="noopener noreferrer" target="_blank"><font color="#365899" face="inherit">www.<span class="currentHitHighlight" id="0.36468702481963344" name="searchHitInReadingPane" style="background-color: rgb(216\, 35\, 0)\; color: rgb(255\, 255\, 255)\;">yoga</span><span class="highlight" id="0.726564250079244" name="searchHitInReadingPane" style="background-color: rgb(255\, 238\, 148)\;">loft</span>north.com</font></a></font></span></font></div>\n\n<div style="margin-bottom: 6px\; margin-top: 6px\;"><font color="#1d2129" face="system-ui\,-apple-system\,BlinkMacSystemFont\,.SFNSText-Regular\,sans-serif" style="background-color: transparent\; color: rgb(29\, 33\, 41)\; font-size: 13.33px\; font-variant-numeric: normal\; font-variant-east-asian: normal\;"><span style="font-size: 14px\;"><font face="inherit">5:30am - HiiT Cycle with Jen. This is a 30 minute HIIT class with a 15 minute dynamic stretch after class. This fast moving class will be sure to get your blood pumping and your body moving.... starting your day off right!&nbsp\;</font></span></font></div>\n\n<div style="margin-bottom: 6px\; margin-top: 6px\;"><font color="#1d2129" face="system-ui\,-apple-system\,BlinkMacSystemFont\,.SFNSText-Regular\,sans-serif" style="background-color: transparent\; color: rgb(29\, 33\, 41)\; font-size: 13.33px\; font-variant-numeric: normal\; font-variant-east-asian: normal\;"><span style="font-size: 14px\;"><font face="inherit"><font face="inherit" size="1"><span style="font-size: 0px\;">&#128692\;&zwj\;&#9794\;&#65039\;</span></font>8:45am - Indoor Cycling with Andrea. This 60 minute high-intensity\, low-impact cycling class.. focusing on building endurance and strength. Pedaling through hill climbs\, flats\, sprints\, jumps\, and other indoor cycling drills. Lights will be low and music will be high... all while burning tons of calories. Get ready to sweat!&nbsp\;</font></span></font></div>\n\n<div style="margin-bottom: 6px\; margin-top: 6px\;"><font color="#1d2129" face="system-ui\,-apple-system\,BlinkMacSystemFont\,.SFNSText-Regular\,sans-serif" style="background-color: transparent\; color: rgb(29\, 33\, 41)\; font-size: 13.33px\; font-variant-numeric: normal\; font-variant-east-asian: normal\;"><span style="font-size: 14px\;"><font face="inherit"><font face="inherit" size="1"><span style="font-size: 0px\;">&#128692\;&#127995\;&zwj\;&#9792\;&#65039\;</span></font>12 noon - Lunch express with Jen. Who needs afternoon coffee when you have this class!!! This high-intensity\, low-impact cycling class.. focusing on building endurance and strength. Pedaling through hill climbs\, flats\, sprints\, jumps\, and other indoor cycling drills. Lights will be low and music will be high... all while burning tons of calories.&nbsp\;</font></span></font></div>\n\n<div style="margin-bottom: 6px\; margin-top: 6px\;"><font color="#1d2129" face="system-ui\,-apple-system\,BlinkMacSystemFont\,.SFNSText-Regular\,sans-serif" style="background-color: transparent\; color: rgb(29\, 33\, 41)\; font-size: 13.33px\; font-variant-numeric: normal\; font-variant-east-asian: normal\;"><span style="font-size: 14px\;"><font face="inherit"><font face="inherit" size="1"><span style="font-size: 0px\;">&#128692\;&zwj\;&#9794\;&#65039\;</span></font>5:30 pm - BEGINNER indoor cycling with Dianne. This 45 minute class will spend extra time getting each participant properly set up on their bike. Making for a safe\, efficient\, and effective ride. This class will help the new rider develop a solid foundation for indoor cycling.. working on building endurance and muscle strength. Go at your own pace for this 20 minute ride. Lights will be low and music will be pumping.... while you try something new and have fun with this low-impact cardio workout.&nbsp\;</font></span></font></div>\n\n<div style="margin-bottom: 6px\; margin-top: 6px\;"><font color="#1d2129" face="system-ui\,-apple-system\,BlinkMacSystemFont\,.SFNSText-Regular\,sans-serif" style="background-color: transparent\; color: rgb(29\, 33\, 41)\; font-size: 13.33px\; font-variant-numeric: normal\; font-variant-east-asian: normal\;"><span style="font-size: 14px\;"><font face="inherit"><font face="inherit" size="1"><span style="font-size: 0px\;">&#128692\;&#127995\;&zwj\;&#9792\;&#65039\;</span></font>6:30pm - Indoor Cycling with Dianne. This 45 minute high-intensity\, low-impact cycling class.. focusing on building endurance and strength. Pedaling through hill climbs\, flats\, sprints\, jumps\, and other indoor cycling drills. Lights will be low and music will be high... all while burning tons of calories. Get ready to sweat!</font></span></font></div>\n\n<div style="margin-bottom: 6px\; margin-top: 6px\;"><font color="#1d2129" face="system-ui\,-apple-system\,BlinkMacSystemFont\,.SFNSText-Regular\,sans-serif" style="background-color: transparent\; color: rgb(29\, 33\, 41)\; font-size: 13.33px\; font-variant-numeric: normal\; font-variant-east-asian: normal\;"><span style="font-size: 14px\;"><font face="inherit">Thank you to all our clients for all the love and support! Let&rsquo\;s ride!&nbsp\;&nbsp\;</font></span></font></div>\n\n<div style="background-color: transparent\; color: rgb(33\, 33\, 33)\; font-size: 15px\; font-variant-numeric: normal\; font-variant-east-asian: normal\;">\n<div align="center">&nbsp\;</div>\n</div>\n
LOCATION:The Yoga Loft 3 Lopez Road Wilmington\, MA 01887
UID:e.2938.5204
SEQUENCE:3
DTSTAMP:20260425T191158Z
URL:https://business.wilmingtontewksburychamber.org/events/details/grand-opening-celebration-tyl-cycle-5204
END:VEVENT

END:VCALENDAR
