BEGIN:VCALENDAR
VERSION:2.0
PRODID:-//ChamberMaster//Event Calendar 2.0//EN
METHOD:PUBLISH
X-PUBLISHED-TTL:P3D
REFRESH-INTERVAL:P3D
CALSCALE:GREGORIAN
BEGIN:VEVENT
DTSTART:20190620T223000Z
DTEND:20190621T003000Z
X-MICROSOFT-CDO-ALLDAYEVENT:FALSE
SUMMARY:Free Solar Workshop - Reading Municipal Light Department
DESCRIPTION:You are invited to a attend a free Solar Workshop on Thursday\, June 20\, 2019 at 230 Ash Street\, Reading. The workshop will be held at the start of RMLD's regularly scheduled Board of Commissioners meeting. A reception with light refreshments and informational displays will be held prior to the workshop. \n\n6:30 PM - RECEPTION WITH LIGHT REFRESHMENTS AND INFORMATIONAL DISPLAYS\n\n7:00 PM - SOLAR WORKSHOP\n\nTopics to be covered include:\n\n\n	An overview of solar energy production and the economics of solar (system pricing\, available incentives and rebates\, etc.) \n	Existing RMLD solar programs (Customer Owned Generation Rate\, Solar Choice program)\n	Potential future solar garden\n	A comprehensive overview of the solar installation process \n\n\nPlease click here to register. We hope to see you at the event!
X-ALT-DESC;FMTTYPE=text/html:<p class="x_MsoNormal" style="color: rgb(32\, 31\, 30)\; font-size: 11pt\; font-variant-numeric: normal\; font-variant-east-asian: normal\; margin: 0in 0in 0pt\;">You&nbsp\;are invited to a attend a free Solar Workshop o<span style="background-attachment: scroll\; background-clip: border-box\; background-image: none\; background-origin: padding-box\; background-position: 0% 0%\; background-repeat: repeat\; background-size: auto\; border: 0px none currentcolor\; color: inherit\; font: inherit\; margin: 0px\; padding: 0px\; vertical-align: baseline\;">n Thursday\, June 20\, 2019&nbsp\;at 230 Ash Street\, Reading. The workshop will be held at the start of RMLD&rsquo\;s regularly scheduled Board of Commissioners meeting. A reception with light refreshments and informational displays will be held prior to the workshop.&nbsp\;</span></p>\n\n<p class="x_MsoNormal" style="background-attachment: scroll\; background-clip: border-box\; background-image: none\; background-origin: padding-box\; background-position: 0% 0%\; background-repeat: repeat\; background-size: auto\; color: rgb(32\, 31\, 30)\; font-size: 11pt\; font-variant-numeric: normal\; font-variant-east-asian: normal\; margin: 0in 0in 0pt\; vertical-align: baseline\;"><b><span style="border-bottom-color: windowtext\; border-bottom-style: none\; border-bottom-width: 1pt\; border-image-outset: 0\; border-image-repeat: stretch\; border-image-slice: 100%\; border-image-source: none\; border-image-width: 1\; border-left-color: windowtext\; border-left-style: none\; border-left-width: 1pt\; border-right-color: windowtext\; border-right-style: none\; border-right-width: 1pt\; border-top-color: windowtext\; border-top-style: none\; border-top-width: 1pt\; color: inherit\; font-family: inherit\; font-size: inherit\; font-size-adjust: none\; font-stretch: inherit\; font-style: inherit\; font-variant: inherit\; font-weight: inherit\; line-height: inherit\; margin-bottom: 0px\; margin-left: 0px\; margin-right: 0px\; margin-top: 0px\; padding-bottom: 0in\; padding-left: 0in\; padding-right: 0in\; padding-top: 0in\; vertical-align: baseline\;">6:30 PM - RECEPTION WITH LIGHT REFRESHMENTS AND INFORMATIONAL DISPLAYS<br />\n7:00 PM - SOLAR WORKSHOP</span></b></p>\n\n<p class="x_MsoNormal" style="background-attachment: scroll\; background-clip: border-box\; background-image: none\; background-origin: padding-box\; background-position: 0% 0%\; background-repeat: repeat\; background-size: auto\; color: rgb(32\, 31\, 30)\; font-size: 11pt\; font-variant-numeric: normal\; font-variant-east-asian: normal\; margin: 0in 0in 0pt\; vertical-align: baseline\;">Topics to be covered include:</p>\n\n<ul style="color: rgb(32\, 31\, 30)\; font-size: 15px\; font-variant-numeric: normal\; font-variant-east-asian: normal\; margin-bottom: 0in\;" type="disc">\n	<li class="x_MsoNormal" style="background-attachment: scroll\; background-clip: border-box\; background-image: none\; background-origin: padding-box\; background-position: 0% 0%\; background-repeat: repeat\; background-size: auto\; font-size: 11pt\; margin: 0in 0in 0pt\; vertical-align: baseline\;">An overview of solar energy production and the economics of solar (system pricing\, available incentives and rebates\, etc.)&nbsp\;</li>\n	<li class="x_MsoNormal" style="background-attachment: scroll\; background-clip: border-box\; background-image: none\; background-origin: padding-box\; background-position: 0% 0%\; background-repeat: repeat\; background-size: auto\; font-size: 11pt\; margin: 0in 0in 0pt\; vertical-align: baseline\;">Existing RMLD solar programs (Customer Owned Generation Rate\, Solar Choice program)</li>\n	<li class="x_MsoNormal" style="background-attachment: scroll\; background-clip: border-box\; background-image: none\; background-origin: padding-box\; background-position: 0% 0%\; background-repeat: repeat\; background-size: auto\; font-size: 11pt\; margin: 0in 0in 0pt\; vertical-align: baseline\;">Potential future solar garden</li>\n	<li class="x_MsoNormal" style="background-attachment: scroll\; background-clip: border-box\; background-image: none\; background-origin: padding-box\; background-position: 0% 0%\; background-repeat: repeat\; background-size: auto\; font-size: 11pt\; margin: 0in 0in 0pt\; vertical-align: baseline\;">A comprehensive overview of the solar installation process&nbsp\;</li>\n</ul>\n\n<p class="x_MsoNormal" style="color: rgb(32\, 31\, 30)\; font-size: 11pt\; font-variant-numeric: normal\; font-variant-east-asian: normal\; margin: 0in 0in 0pt\;"><a data-auth="NotApplicable" href="https://events.eventzilla.net/e/solar-workshop-2138744667" rel="noopener noreferrer" style="border: 0px none currentcolor\; color: rgb(149\, 79\, 114)\; font: inherit\; margin: 0px\; padding: 0px\; vertical-align: baseline\;" target="_blank">Please click here to register</a>. We hope to see you at the event!</p>\n
LOCATION:Reading Municipal Light Department 230 Ash Street Reading\, MA 01867-2050 781-942-6419 www.rmld.com
UID:e.2938.5299
SEQUENCE:3
DTSTAMP:20260425T030112Z
URL:https://business.wilmingtontewksburychamber.org/events/details/free-solar-workshop-reading-municipal-light-department-5299
END:VEVENT

END:VCALENDAR
