BEGIN:VCALENDAR
VERSION:2.0
PRODID:-//ChamberMaster//Event Calendar 2.0//EN
METHOD:PUBLISH
X-PUBLISHED-TTL:P3D
REFRESH-INTERVAL:P3D
CALSCALE:GREGORIAN
BEGIN:VEVENT
DTSTART:20200723T170000Z
DTEND:20200723T180000Z
X-MICROSOFT-CDO-ALLDAYEVENT:FALSE
SUMMARY:Finding Your Way Back: Strategies for Reopening After Quarantine [Multi-Chamber]
DESCRIPTION:Over the past 4 months\, you've had to adapt like never before. Close down or remain open? Apply for federal funding or avoid the tangle of forms? And you couldn't forget about how to keep revenue coming in while being shut down. But now you're allowed to reopen: Ready\, Set\, Go!\n\n\n\nIf only it were that simple. Those questions about funding and how to keep your customers and more remain a question mark. And on top of all that\, you have new regulations on how you're allowed to run your business!\n\n\n\nWe are excited to welcome Susu Wong\, founder of Tomo360\, to help us make sense of it all. Susu is an experienced business and marketing strategist who has worked with a variety of companies from high-tech industry\, healthcare\, biotech\, higher education to startup companies. She has a unique combination of marketing\, business and technical experience that provides a well-rounded advantage for her clients. In this workshop\, she will offer practical\, easy-to-implement steps to get your business back on track!
X-ALT-DESC;FMTTYPE=text/html:<span style="font-family:tahoma\;"><span style="color: rgb(51\, 51\, 51)\; font-size: 16px\; background-color: rgb(255\, 255\, 255)\;">Over the past 4 months\, you&#39\;ve had to adapt like never before. Close down or remain open? Apply for federal funding or avoid the tangle of forms?&nbsp\;And you couldn&#39\;t forget about how to keep revenue coming in while being shut down. But now you&#39\;re allowed to reopen: Ready\, Set\, Go!</span><br style="box-sizing: border-box\; color: rgb(51\, 51\, 51)\; font-family: Calibri\, Verdana\, Geneva\, sans-serif\; font-size: 16px\; background-color: rgb(255\, 255\, 255)\;" />\n<br style="box-sizing: border-box\; color: rgb(51\, 51\, 51)\; font-family: Calibri\, Verdana\, Geneva\, sans-serif\; font-size: 16px\; background-color: rgb(255\, 255\, 255)\;" />\n<span style="color: rgb(51\, 51\, 51)\; font-size: 16px\; background-color: rgb(255\, 255\, 255)\;">If only it were that simple. Those questions about funding and how to keep your customers and more remain a question mark. And on top of all that\, you have new regulations on how you&#39\;re allowed to run your business!</span><br style="box-sizing: border-box\; color: rgb(51\, 51\, 51)\; font-family: Calibri\, Verdana\, Geneva\, sans-serif\; font-size: 16px\; background-color: rgb(255\, 255\, 255)\;" />\n<br style="box-sizing: border-box\; color: rgb(51\, 51\, 51)\; font-family: Calibri\, Verdana\, Geneva\, sans-serif\; font-size: 16px\; background-color: rgb(255\, 255\, 255)\;" />\n<span style="color: rgb(51\, 51\, 51)\; font-size: 16px\; background-color: rgb(255\, 255\, 255)\;">We are excited to welcome Susu Wong\, founder of&nbsp\;</span><a href="http://tomo360.com/" style="box-sizing: border-box\; background-color: rgb(255\, 255\, 255)\; color: rgb(3\, 84\, 131)\; text-decoration-line: none\; overflow-wrap: break-word\; outline: 0px\; font-family: Calibri\, Verdana\, Geneva\, sans-serif\; font-size: 16px\;" target="_blank">Tomo360</a><span style="color: rgb(51\, 51\, 51)\; font-size: 16px\; background-color: rgb(255\, 255\, 255)\;">\, to help us make sense of it all. Susu is an experienced business and marketing strategist who has worked with a variety of companies from high-tech industry\, healthcare\, biotech\, higher education to startup companies. She has a unique combination of marketing\, business and technical experience that provides a well-rounded advantage for her clients. In this workshop\, she will offer practical\, easy-to-implement steps to get your business back on track!</span></span>
LOCATION:Online via Zoom (Link provided after registration)
UID:e.2938.6644
SEQUENCE:3
DTSTAMP:20260424T233505Z
URL:https://business.wilmingtontewksburychamber.org/events/details/finding-your-way-back-strategies-for-reopening-after-quarantine-multi-chamber-6644
END:VEVENT

END:VCALENDAR
