BEGIN:VCALENDAR
VERSION:2.0
PRODID:-//ChamberMaster//Event Calendar 2.0//EN
METHOD:PUBLISH
X-PUBLISHED-TTL:P3D
REFRESH-INTERVAL:P3D
CALSCALE:GREGORIAN
BEGIN:VEVENT
DTSTART:20180826T150000Z
DTEND:20180826T180000Z
X-MICROSOFT-CDO-ALLDAYEVENT:FALSE
SUMMARY:Family Fun Day At Yentile Farm
DESCRIPTION:Wilmington Community Television (WCTV) is holding its annual Family Fun Day on Sunday\, August 26\, from 11am to 2pm\, at Yentile Farm Recreational Facility (9 Cross Street).\n\nThis event is FREE for Wilmington families. Come on down to enjoy some music\, food\, and demonstrations from local dancers\, martial arts and public safety.\n\nThis is also an opportunity to check out WCTV equipment and meet our staff\, including our new Youth Director Marty McCue!
X-ALT-DESC;FMTTYPE=text/html:<p style="box-sizing: inherit\; border: 0px\; font-family: &quot\;Open Sans&quot\;\, sans-serif\; font-size: 17px\; margin: 0px 0px 1.5em\; outline: 0px\; padding: 0px\; vertical-align: baseline\; color: rgb(61\, 61\, 61)\; letter-spacing: 0.34px\;">Wilmington Community Television (WCTV) is holding its annual Family Fun Day on Sunday\, August 26\, from 11am to 2pm\, at Yentile Farm Recreational Facility (9 Cross Street).</p>\n\n<p style="box-sizing: inherit\; border: 0px\; font-family: &quot\;Open Sans&quot\;\, sans-serif\; font-size: 17px\; margin: 0px 0px 1.5em\; outline: 0px\; padding: 0px\; vertical-align: baseline\; color: rgb(61\, 61\, 61)\; letter-spacing: 0.34px\;">This event is FREE for Wilmington families. Come on down to enjoy some music\, food\, and demonstrations from local dancers\, martial arts and public safety.</p>\n\n<p style="box-sizing: inherit\; border: 0px\; font-family: &quot\;Open Sans&quot\;\, sans-serif\; font-size: 17px\; margin: 0px 0px 1.5em\; outline: 0px\; padding: 0px\; vertical-align: baseline\; color: rgb(61\, 61\, 61)\; letter-spacing: 0.34px\;">This is also an opportunity to check out WCTV equipment and meet our staff\, including our new Youth Director Marty McCue!</p>\n
LOCATION:Yentile Farm Recreational Facility (9 Cross Street) Wilmington
UID:e.2938.5213
SEQUENCE:3
DTSTAMP:20260425T191453Z
URL:https://business.wilmingtontewksburychamber.org/events/details/family-fun-day-at-yentile-farm-5213
END:VEVENT

END:VCALENDAR
