BEGIN:VCALENDAR
VERSION:2.0
PRODID:-//ChamberMaster//Event Calendar 2.0//EN
METHOD:PUBLISH
X-PUBLISHED-TTL:P3D
REFRESH-INTERVAL:P3D
CALSCALE:GREGORIAN
BEGIN:VEVENT
DTSTART:20210311T150000Z
DTEND:20210311T160000Z
X-MICROSOFT-CDO-ALLDAYEVENT:FALSE
SUMMARY:Employment Law: COVID Q&A
DESCRIPTION:Our friends at the Reading/N. Reading Chamber of Commerce has invited various Chambers and our members to join them to get your legal questions regarding COVID-19 and your staff answered by experts.  Our speakers are David Robinson\, Esq of Roberto\, Israel and Weiner and Paul Robertson\, Esq of Demoura Smith\, two employment attorneys who will tackle your Covid 19 employment questions\, such as: Can you require employees to get vaccinated? What are your options if they refuse to get vaccinated?  Email your questions to legan@rnrchamber.com in advance and we will do our best to address them. \n\n \nAbout Our Speakers:\n\nPaul Robertson\n\nPaul Robertson is a trial attorney and counsel in the Firm?s Litigation Practice Group. He has extensive experience both as a litigator of complex commercial disputes and product liability matters and as a consultant in the field of electronic information management. He has tried many cases to verdict and litigated hundreds of complex commercial matters before courts\, agencies\, and arbitration tribunals at the state\, federal\, and international level. Paul's representations include the New England Patriots\, the Kingdom of Spain\, and (on a pro bono basis) victims of the September 11\, 2001\, World Trade Center bombing. He has a strong record of reaching successful resolutions for his clients\, whether large or small.\n\nPaul?s significant arbitration experience includes representations of clients before International Chamber of Commerce arbitral panels located in multiple European countries.\n\nPaul also counsels clients with multi-national operations on electronic information best practices. These best practices include defensible records management systems\, cross-border transfers\, archive and legal hold processes\, and litigation preparedness.\n\n\n\n\n\nDavid Robinson\, Esq\n\nDavid Robinson focuses his practice on litigation of complex commercial matters\, lease disputes\, employment disputes\, wage and hour collective actions\, construction\, and securities and financial services. David represents retail businesses\, restaurants\, manufacturers\, service providers and financial institutions is a wide variety of matters\, including contract and shareholder disputes\, discrimination\, wage and other employee claims\, and professional licensing issues. He has tried cases before judges\, juries and arbitrators in Massachusetts and New York. David?s clients rely on his experience and expertise to advise\, draft and negotiate contracts\, and to resolve disputes through negotiation\, mediation\, arbitration and litigation in state and federal courts.\n\nDavid advises employers on employee policies and discipline\, wage and hour compliance\, investigation of harassment and discrimination complaints\, and non-compete agreements. He also assists clients with government audits of employment practices\, including but not limited to investigations by the Department of Labor and the Massachusetts Attorney General. He represents clients in state and federal court\, before the Massachusetts Commission Against Discrimination\, Equal Employment Opportunity Commission and other state and federal administrative bodies.\n\nHe is a frequent lecturer for the National Retail Tenants Association\, South Shore Chamber of Commerce\, Massachusetts Continuing Legal Education and other organizations\, and has written several articles on employment law\, lease disputes and other matters of legal significance.
X-ALT-DESC;FMTTYPE=text/html:<span style="color: rgb(51\, 51\, 51)\; font-family: arial\; font-size: 14px\; background-color: rgb(249\, 249\, 249)\;">Our friends at the Reading/N. Reading Chamber of Commerce has invited various Chambers and our members to join them to get your legal questions regarding COVID-19 and your staff answered by experts.&nbsp\; Our speakers are David Robinson\, Esq of Roberto\, Israel and Weiner and Paul Robertson\, Esq of Demoura Smith\, two employment attorneys who will tackle your Covid 19 employment questions\, such as: Can you require employees to get vaccinated? What are your options if they refuse to get vaccinated?&nbsp\; Email your questions to&nbsp\;legan@rnrchamber.com&nbsp\;in advance and we will do our best to address them.&nbsp\;</span><br />\n&nbsp\;\n<p style="margin: 0px 0px 1rem\; padding: 0px\; border: 0px\; vertical-align: baseline\; box-sizing: border-box\; color: rgb(51\, 51\, 51)\; font-family: &quot\;PT Sans&quot\;\; font-size: 16px\; background-color: rgb(249\, 249\, 249)\;"><span style="margin: 0px\; padding: 0px\; border: 0px\; vertical-align: baseline\; box-sizing: border-box\; font-size: 14px\;"><span style="margin: 0px\; padding: 0px\; border: 0px\; vertical-align: baseline\; box-sizing: border-box\; font-family: arial\;"><span style="margin: 0px\; padding: 0px\; border: none\; vertical-align: baseline\; box-sizing: content-box\; clear: none\; content: normal\; direction: inherit\; empty-cells: show\; font-variant-numeric: inherit\; font-variant-east-asian: inherit\; font-stretch: inherit\; line-height: inherit\; max-height: none\; max-width: none\; min-height: initial\; min-width: initial\; opacity: 1\; outline-offset: 0px\; overflow: visible\; position: static\; resize: none\; table-layout: auto\; text-overflow: clip\; visibility: inherit\; word-break: inherit\; overflow-wrap: inherit\; z-index: auto\; background-image: none\; background-position: initial\; background-size: initial\; background-repeat: initial\; background-attachment: initial\; background-origin: initial\; background-clip: initial\; border-collapse: separate\; border-radius: 0px\; height: auto\; width: auto\; box-shadow: none\;"><span style="margin: 0px\; padding: 0px\; border: none\; vertical-align: baseline\; box-sizing: content-box\; clear: none\; color: inherit\; content: normal\; direction: inherit\; empty-cells: show\; font-style: inherit\; font-variant: inherit\; font-weight: inherit\; font-stretch: inherit\; letter-spacing: inherit\; line-height: inherit\; max-height: none\; max-width: none\; min-height: initial\; min-width: initial\; opacity: 1\; outline-offset: 0px\; overflow: visible\; position: static\; resize: none\; table-layout: auto\; text-align: inherit\; text-indent: inherit\; text-overflow: clip\; text-transform: inherit\; visibility: inherit\; white-space: inherit\; word-break: inherit\; word-spacing: inherit\; overflow-wrap: inherit\; z-index: auto\; background: none\; border-collapse: separate\; border-radius: 0px\; height: auto\; width: auto\; box-shadow: none\;">About Our Speakers:<br style="box-sizing: content-box\; clear: none\; color: inherit\; content: normal\; direction: inherit\; display: inline\; empty-cells: show\; float: none\; font: inherit\; letter-spacing: inherit\; margin: 0px\; max-height: none\; max-width: none\; min-height: initial\; min-width: initial\; opacity: 1\; outline-offset: 0px\; overflow: visible\; padding: 0px\; position: static\; resize: none\; table-layout: auto\; text-align: inherit\; text-indent: inherit\; text-overflow: clip\; text-transform: inherit\; vertical-align: baseline\; visibility: inherit\; white-space: inherit\; word-break: inherit\; word-spacing: inherit\; overflow-wrap: inherit\; z-index: auto\; background: none\; border: none\; border-collapse: separate\; border-radius: 0px\; height: auto\; width: auto\;" />\n<span style="margin: 0px\; padding: 0px\; border: none\; vertical-align: baseline\; box-sizing: content-box\; clear: none\; color: rgb(33\, 33\, 33)\; content: normal\; direction: inherit\; empty-cells: show\; font-style: inherit\; font-variant: inherit\; font-weight: inherit\; font-stretch: inherit\; line-height: inherit\; letter-spacing: inherit\; max-height: none\; max-width: none\; min-height: initial\; min-width: initial\; opacity: 1\; outline-offset: 0px\; overflow: visible\; position: static\; resize: none\; table-layout: auto\; text-align: inherit\; text-indent: inherit\; text-overflow: clip\; text-transform: inherit\; visibility: inherit\; white-space: inherit\; word-break: inherit\; word-spacing: inherit\; overflow-wrap: inherit\; z-index: auto\; background: none\; border-collapse: separate\; border-radius: 0px\; height: auto\; width: auto\; box-shadow: none\;"><span style="margin: 0px\; padding: 0px\; border: none\; vertical-align: baseline\; box-sizing: content-box\; font-weight: bolder\; clear: none\; color: inherit\; content: normal\; direction: inherit\; empty-cells: show\; font-style: inherit\; font-variant: inherit\; font-stretch: inherit\; letter-spacing: inherit\; line-height: inherit\; max-height: none\; max-width: none\; min-height: initial\; min-width: initial\; opacity: 1\; outline-offset: 0px\; overflow: visible\; position: static\; resize: none\; table-layout: auto\; text-align: inherit\; text-indent: inherit\; text-overflow: clip\; text-transform: inherit\; visibility: inherit\; white-space: inherit\; word-break: inherit\; word-spacing: inherit\; overflow-wrap: inherit\; z-index: auto\; background: none\; border-collapse: separate\; border-radius: 0px\; height: auto\; width: auto\; box-shadow: none\;">Paul Robertson</span><br style="box-sizing: content-box\; clear: none\; color: inherit\; content: normal\; direction: inherit\; display: inline\; empty-cells: show\; float: none\; font: inherit\; letter-spacing: inherit\; margin: 0px\; max-height: none\; max-width: none\; min-height: initial\; min-width: initial\; opacity: 1\; outline-offset: 0px\; overflow: visible\; padding: 0px\; position: static\; resize: none\; table-layout: auto\; text-align: inherit\; text-indent: inherit\; text-overflow: clip\; text-transform: inherit\; vertical-align: baseline\; visibility: inherit\; white-space: inherit\; word-break: inherit\; word-spacing: inherit\; overflow-wrap: inherit\; z-index: auto\; background: none\; border: none\; border-collapse: separate\; border-radius: 0px\; height: auto\; width: auto\;" />\nPaul Robertson is a trial attorney and counsel in the Firm?s Litigation Practice Group. He has extensive experience both as a litigator of complex commercial disputes and product liability matters and as a consultant in the field of electronic information management. He has tried many cases to verdict and litigated hundreds of complex commercial matters before courts\, agencies\, and arbitration tribunals at the state\, federal\, and international level. Paul&#39\;s representations include the New England Patriots\, the Kingdom of Spain\, and (on a pro bono basis) victims of the September 11\, 2001\, World Trade Center bombing. He has a strong record of reaching successful resolutions for his clients\, whether large or small.</span><br style="box-sizing: content-box\; clear: none\; color: inherit\; content: normal\; direction: inherit\; display: inline\; empty-cells: show\; float: none\; font: inherit\; letter-spacing: inherit\; margin: 0px\; max-height: none\; max-width: none\; min-height: initial\; min-width: initial\; opacity: 1\; outline-offset: 0px\; overflow: visible\; padding: 0px\; position: static\; resize: none\; table-layout: auto\; text-align: inherit\; text-indent: inherit\; text-overflow: clip\; text-transform: inherit\; vertical-align: baseline\; visibility: inherit\; white-space: inherit\; word-break: inherit\; word-spacing: inherit\; overflow-wrap: inherit\; z-index: auto\; background: none\; border: none\; border-collapse: separate\; border-radius: 0px\; height: auto\; width: auto\;" />\n<span style="margin: 0px\; padding: 0px\; border: none\; vertical-align: baseline\; box-sizing: content-box\; clear: none\; color: rgb(33\, 33\, 33)\; content: normal\; direction: inherit\; empty-cells: show\; font-style: inherit\; font-variant: inherit\; font-weight: inherit\; font-stretch: inherit\; line-height: inherit\; letter-spacing: inherit\; max-height: none\; max-width: none\; min-height: initial\; min-width: initial\; opacity: 1\; outline-offset: 0px\; overflow: visible\; position: static\; resize: none\; table-layout: auto\; text-align: inherit\; text-indent: inherit\; text-overflow: clip\; text-transform: inherit\; visibility: inherit\; white-space: inherit\; word-break: inherit\; word-spacing: inherit\; overflow-wrap: inherit\; z-index: auto\; background: none\; border-collapse: separate\; border-radius: 0px\; height: auto\; width: auto\; box-shadow: none\;">Paul?s significant arbitration experience includes representations of clients before International Chamber of Commerce arbitral panels located in multiple European countries.</span><br style="box-sizing: content-box\; clear: none\; color: inherit\; content: normal\; direction: inherit\; display: inline\; empty-cells: show\; float: none\; font: inherit\; letter-spacing: inherit\; margin: 0px\; max-height: none\; max-width: none\; min-height: initial\; min-width: initial\; opacity: 1\; outline-offset: 0px\; overflow: visible\; padding: 0px\; position: static\; resize: none\; table-layout: auto\; text-align: inherit\; text-indent: inherit\; text-overflow: clip\; text-transform: inherit\; vertical-align: baseline\; visibility: inherit\; white-space: inherit\; word-break: inherit\; word-spacing: inherit\; overflow-wrap: inherit\; z-index: auto\; background: none\; border: none\; border-collapse: separate\; border-radius: 0px\; height: auto\; width: auto\;" />\n<span style="margin: 0px\; padding: 0px\; border: none\; vertical-align: baseline\; box-sizing: content-box\; clear: none\; color: rgb(33\, 33\, 33)\; content: normal\; direction: inherit\; empty-cells: show\; font-style: inherit\; font-variant: inherit\; font-weight: inherit\; font-stretch: inherit\; line-height: inherit\; letter-spacing: inherit\; max-height: none\; max-width: none\; min-height: initial\; min-width: initial\; opacity: 1\; outline-offset: 0px\; overflow: visible\; position: static\; resize: none\; table-layout: auto\; text-align: inherit\; text-indent: inherit\; text-overflow: clip\; text-transform: inherit\; visibility: inherit\; white-space: inherit\; word-break: inherit\; word-spacing: inherit\; overflow-wrap: inherit\; z-index: auto\; background: none\; border-collapse: separate\; border-radius: 0px\; height: auto\; width: auto\; box-shadow: none\;">Paul also counsels clients with multi-national operations on electronic information best practices. These best practices include defensible records management systems\, cross-border transfers\, archive and legal hold processes\, and litigation preparedness.</span></span><br style="box-sizing: content-box\; clear: none\; color: inherit\; content: normal\; direction: inherit\; display: inline\; empty-cells: show\; float: none\; font: inherit\; letter-spacing: inherit\; margin: 0px\; max-height: none\; max-width: none\; min-height: initial\; min-width: initial\; opacity: 1\; outline-offset: 0px\; overflow: visible\; padding: 0px\; position: static\; resize: none\; table-layout: auto\; text-align: inherit\; text-indent: inherit\; text-overflow: clip\; text-transform: inherit\; vertical-align: baseline\; visibility: inherit\; white-space: inherit\; word-break: inherit\; word-spacing: inherit\; overflow-wrap: inherit\; z-index: auto\; background: none\; border: none\; border-collapse: separate\; border-radius: 0px\; height: auto\; width: auto\;" />\n<br style="box-sizing: content-box\; clear: none\; color: inherit\; content: normal\; direction: inherit\; display: inline\; empty-cells: show\; float: none\; font: inherit\; letter-spacing: inherit\; margin: 0px\; max-height: none\; max-width: none\; min-height: initial\; min-width: initial\; opacity: 1\; outline-offset: 0px\; overflow: visible\; padding: 0px\; position: static\; resize: none\; table-layout: auto\; text-align: inherit\; text-indent: inherit\; text-overflow: clip\; text-transform: inherit\; vertical-align: baseline\; visibility: inherit\; white-space: inherit\; word-break: inherit\; word-spacing: inherit\; overflow-wrap: inherit\; z-index: auto\; background: none\; border: none\; border-collapse: separate\; border-radius: 0px\; height: auto\; width: auto\;" />\n<br style="box-sizing: content-box\; clear: none\; color: inherit\; content: normal\; direction: inherit\; display: inline\; empty-cells: show\; float: none\; font: inherit\; letter-spacing: inherit\; margin: 0px\; max-height: none\; max-width: none\; min-height: initial\; min-width: initial\; opacity: 1\; outline-offset: 0px\; overflow: visible\; padding: 0px\; position: static\; resize: none\; table-layout: auto\; text-align: inherit\; text-indent: inherit\; text-overflow: clip\; text-transform: inherit\; vertical-align: baseline\; visibility: inherit\; white-space: inherit\; word-break: inherit\; word-spacing: inherit\; overflow-wrap: inherit\; z-index: auto\; background: none\; border: none\; border-collapse: separate\; border-radius: 0px\; height: auto\; width: auto\;" />\n<span style="margin: 0px\; padding: 0px\; border: none\; vertical-align: baseline\; box-sizing: content-box\; font-weight: bolder\; clear: none\; color: inherit\; content: normal\; direction: inherit\; empty-cells: show\; font-style: inherit\; font-variant: inherit\; font-stretch: inherit\; letter-spacing: inherit\; line-height: inherit\; max-height: none\; max-width: none\; min-height: initial\; min-width: initial\; opacity: 1\; outline-offset: 0px\; overflow: visible\; position: static\; resize: none\; table-layout: auto\; text-align: inherit\; text-indent: inherit\; text-overflow: clip\; text-transform: inherit\; visibility: inherit\; white-space: inherit\; word-break: inherit\; word-spacing: inherit\; overflow-wrap: inherit\; z-index: auto\; background: none\; border-collapse: separate\; border-radius: 0px\; height: auto\; width: auto\; box-shadow: none\;">David Robinson\, Esq</span></span></span></span></p>\n\n<p style="margin: 1em 0px\; padding: 0px\; border: none\; vertical-align: baseline\; box-sizing: content-box\; color: rgb(51\, 51\, 51)\; background: none rgb(249\, 249\, 249)\; clear: none\; content: normal\; direction: inherit\; empty-cells: show\; float: none\; font-variant-numeric: inherit\; font-variant-east-asian: inherit\; font-stretch: inherit\; font-size: 14px\; font-family: &quot\;open sans&quot\;\, arial\, sans-serif\; line-height: inherit\; max-height: none\; max-width: none\; min-height: initial\; min-width: initial\; opacity: 1\; outline-offset: 0px\; overflow: visible\; position: static\; resize: none\; table-layout: auto\; text-overflow: clip\; visibility: inherit\; word-break: inherit\; overflow-wrap: inherit\; z-index: auto\; border-collapse: separate\; border-radius: 0px\; height: auto\; width: auto\; box-shadow: none\;"><span style="margin: 0px\; padding: 0px\; border: 0px\; vertical-align: baseline\; box-sizing: border-box\;"><span style="margin: 0px\; padding: 0px\; border: 0px\; vertical-align: baseline\; box-sizing: border-box\; font-family: arial\;"><span style="margin: 0px\; padding: 0px\; border: none\; vertical-align: baseline\; box-sizing: content-box\; clear: none\; color: inherit\; content: normal\; direction: inherit\; empty-cells: show\; font-style: inherit\; font-variant: inherit\; font-weight: inherit\; font-stretch: inherit\; letter-spacing: inherit\; line-height: inherit\; max-height: none\; max-width: none\; min-height: initial\; min-width: initial\; opacity: 1\; outline-offset: 0px\; overflow: visible\; position: static\; resize: none\; table-layout: auto\; text-align: inherit\; text-indent: inherit\; text-overflow: clip\; text-transform: inherit\; visibility: inherit\; white-space: inherit\; word-break: inherit\; word-spacing: inherit\; overflow-wrap: inherit\; z-index: auto\; background: none\; border-collapse: separate\; border-radius: 0px\; height: auto\; width: auto\; box-shadow: none\;">David Robinson focuses his practice on litigation of complex commercial matters\, lease disputes\, employment disputes\, wage and hour collective actions\, construction\, and securities and financial services. David represents retail businesses\, restaurants\, manufacturers\, service providers and financial institutions is a wide variety of matters\, including contract and shareholder disputes\, discrimination\, wage and other employee claims\, and professional licensing issues. He has tried cases before judges\, juries and arbitrators in Massachusetts and New York. David?s clients rely on his experience and expertise to advise\, draft and negotiate contracts\, and to resolve disputes through negotiation\, mediation\, arbitration and litigation in state and federal courts.</span></span></span></p>\n\n<p style="margin: 1em 0px\; padding: 0px\; border: none\; vertical-align: baseline\; box-sizing: content-box\; outline: 0px\; color: rgb(51\, 51\, 51)\; background: none rgb(249\, 249\, 249)\; clear: none\; content: normal\; direction: inherit\; empty-cells: show\; float: none\; font-variant-numeric: inherit\; font-variant-east-asian: inherit\; font-stretch: inherit\; font-size: 14px\; font-family: &quot\;open sans&quot\;\, arial\, sans-serif\; line-height: inherit\; max-height: none\; max-width: none\; min-height: initial\; min-width: initial\; opacity: 1\; outline-offset: 0px\; overflow: visible\; position: static\; resize: none\; table-layout: auto\; text-overflow: clip\; visibility: inherit\; word-break: inherit\; overflow-wrap: inherit\; z-index: auto\; border-collapse: separate\; border-radius: 0px\; height: auto\; width: auto\; box-shadow: none\;"><span style="margin: 0px\; padding: 0px\; border: 0px\; vertical-align: baseline\; box-sizing: border-box\; outline: 0px\;"><span style="margin: 0px\; padding: 0px\; border: 0px\; vertical-align: baseline\; box-sizing: border-box\; outline: 0px\; font-family: arial\;"><span style="margin: 0px\; padding: 0px\; border: none\; vertical-align: baseline\; box-sizing: content-box\; outline: 0px\; clear: none\; color: inherit\; content: normal\; direction: inherit\; empty-cells: show\; font-style: inherit\; font-variant: inherit\; font-weight: inherit\; font-stretch: inherit\; letter-spacing: inherit\; line-height: inherit\; max-height: none\; max-width: none\; min-height: initial\; min-width: initial\; opacity: 1\; outline-offset: 0px\; overflow: visible\; position: static\; resize: none\; table-layout: auto\; text-align: inherit\; text-indent: inherit\; text-overflow: clip\; text-transform: inherit\; visibility: inherit\; white-space: inherit\; word-break: inherit\; word-spacing: inherit\; overflow-wrap: inherit\; z-index: auto\; background: none\; border-collapse: separate\; border-radius: 0px\; height: auto\; width: auto\; box-shadow: none\;">David advises employers on employee policies and discipline\, wage and hour compliance\, investigation of harassment and discrimination complaints\, and non-compete agreements. He also assists clients with government audits of employment practices\, including but not limited to investigations by the Department of Labor and the Massachusetts Attorney General. He represents clients in state and federal court\, before the Massachusetts Commission Against Discrimination\, Equal Employment Opportunity Commission and other state and federal administrative bodies.</span></span></span></p>\n\n<p style="margin: 1em 0px\; padding: 0px\; border: none\; vertical-align: baseline\; box-sizing: content-box\; color: rgb(51\, 51\, 51)\; background: none rgb(249\, 249\, 249)\; clear: none\; content: normal\; direction: inherit\; empty-cells: show\; float: none\; font-variant-numeric: inherit\; font-variant-east-asian: inherit\; font-stretch: inherit\; font-size: 14px\; font-family: &quot\;open sans&quot\;\, arial\, sans-serif\; line-height: inherit\; max-height: none\; max-width: none\; min-height: initial\; min-width: initial\; opacity: 1\; outline-offset: 0px\; overflow: visible\; position: static\; resize: none\; table-layout: auto\; text-overflow: clip\; visibility: inherit\; word-break: inherit\; overflow-wrap: inherit\; z-index: auto\; border-collapse: separate\; border-radius: 0px\; height: auto\; width: auto\; box-shadow: none\;"><span style="margin: 0px\; padding: 0px\; border: 0px\; vertical-align: baseline\; box-sizing: border-box\;"><span style="margin: 0px\; padding: 0px\; border: 0px\; vertical-align: baseline\; box-sizing: border-box\; font-family: arial\;"><span style="margin: 0px\; padding: 0px\; border: none\; vertical-align: baseline\; box-sizing: content-box\; clear: none\; color: inherit\; content: normal\; direction: inherit\; empty-cells: show\; font-style: inherit\; font-variant: inherit\; font-weight: inherit\; font-stretch: inherit\; letter-spacing: inherit\; line-height: inherit\; max-height: none\; max-width: none\; min-height: initial\; min-width: initial\; opacity: 1\; outline-offset: 0px\; overflow: visible\; position: static\; resize: none\; table-layout: auto\; text-align: inherit\; text-indent: inherit\; text-overflow: clip\; text-transform: inherit\; visibility: inherit\; white-space: inherit\; word-break: inherit\; word-spacing: inherit\; overflow-wrap: inherit\; z-index: auto\; background: none\; border-collapse: separate\; border-radius: 0px\; height: auto\; width: auto\; box-shadow: none\;">He is a frequent lecturer for the National Retail Tenants Association\, South Shore Chamber of Commerce\, Massachusetts Continuing Legal Education and other organizations\, and has written several articles on employment law\, lease disputes and other matters of legal significance.</span></span></span></p>\n
LOCATION:On-line
UID:e.2938.6671
SEQUENCE:3
DTSTAMP:20260425T115546Z
URL:https://business.wilmingtontewksburychamber.org/events/details/employment-law-covid-q-a-6671
END:VEVENT

END:VCALENDAR
