BEGIN:VCALENDAR
VERSION:2.0
PRODID:-//ChamberMaster//Event Calendar 2.0//EN
METHOD:PUBLISH
X-PUBLISHED-TTL:P3D
REFRESH-INTERVAL:P3D
CALSCALE:GREGORIAN
BEGIN:VEVENT
DTSTART:20180523T210000Z
DTEND:20180523T230000Z
X-MICROSOFT-CDO-ALLDAYEVENT:FALSE
SUMMARY:Eastern Bank Annual Small Business Customer Appreciation Reception
DESCRIPTION:
X-ALT-DESC;FMTTYPE=text/html:
LOCATION:
UID:e.2938.3186
SEQUENCE:3
DTSTAMP:20260426T004052Z
URL:https://business.wilmingtontewksburychamber.org/events/details/eastern-bank-annual-small-business-customer-appreciation-reception-3186
END:VEVENT

END:VCALENDAR
