BEGIN:VCALENDAR
VERSION:2.0
PRODID:-//ChamberMaster//Event Calendar 2.0//EN
METHOD:PUBLISH
X-PUBLISHED-TTL:P3D
REFRESH-INTERVAL:P3D
CALSCALE:GREGORIAN
BEGIN:VEVENT
DTSTART:20190924T223000Z
DTEND:20190925T003000Z
X-MICROSOFT-CDO-ALLDAYEVENT:FALSE
SUMMARY:Didgeridoo Chakra Clearing Hosted by Vitality Wellness Spa
DESCRIPTION:Relax\, clear out energetic and emotional stagnation and connect with your major energy centers.\n\n\n\nJoseph provides a meditative journey that reconnects the mind with the body and allows you to journey and meditate within each major energy centers by using concert class eucalyptus didgeridoos tuned to the key of each major chakra.\n\n\n\nParticipants will be guided to focus on each of the chakras as they come into the corresponding meditation to heighten their awareness of the energy center and promote clearing and connection with the energetic body.\n\n\n\nPlease bring a yoga mat and/or blanket. \n\n\n\nPre-registration suggested.\n\n\n\nCost: $45\n\n\n\nPlease Pre-Register: (978) 657-8772\, vwspa.com
X-ALT-DESC;FMTTYPE=text/html:<span style="background:white\;"><span style="color:#1D2129\;"><span style="font-family:inherit\,serif\;"><span style="font-size:10.5pt\;">Relax\, clear out energetic and emotional stagnation and connect with your major energy centers.</span></span></span></span><br style="orphans:2\;-webkit-text-stroke-width:0px\;white-space:pre-wrap\;word-spacing:0px\;" />\n<br style="orphans:2\;-webkit-text-stroke-width:0px\;white-space:pre-wrap\;word-spacing:0px\;" />\n<span style="background:white\;"><span style="color:#1D2129\;"><span style="font-family:inherit\,serif\;"><span style="font-size:10.5pt\;"><span style="orphans:2\;-webkit-text-stroke-width:0px\;white-space:pre-wrap\;float:none\;word-spacing:0px\;">Joseph provides a meditative journey that reconnects the mind with the body and allows you to journey and meditate within each major energy centers by using concert class eucalyptus didgeridoos tuned to the key of each major chakra.</span></span></span></span></span><br style="orphans:2\;-webkit-text-stroke-width:0px\;white-space:pre-wrap\;word-spacing:0px\;" />\n<br style="orphans:2\;-webkit-text-stroke-width:0px\;white-space:pre-wrap\;word-spacing:0px\;" />\n<span style="background:white\;"><span style="color:#1D2129\;"><span style="font-family:inherit\,serif\;"><span style="font-size:10.5pt\;"><span style="orphans:2\;-webkit-text-stroke-width:0px\;white-space:pre-wrap\;float:none\;word-spacing:0px\;">Participants will be guided to focus on each of the chakras as they come into the corresponding meditation to heighten their awareness of the energy center and promote clearing and connection with the energetic body.</span></span></span></span></span><br style="orphans:2\;-webkit-text-stroke-width:0px\;white-space:pre-wrap\;word-spacing:0px\;" />\n<br style="orphans:2\;-webkit-text-stroke-width:0px\;white-space:pre-wrap\;word-spacing:0px\;" />\n<span style="background:white\;"><span style="color:#1D2129\;"><span style="font-family:inherit\,serif\;"><span style="font-size:10.5pt\;"><span style="orphans:2\;-webkit-text-stroke-width:0px\;white-space:pre-wrap\;float:none\;word-spacing:0px\;">Please bring a yoga mat and/or blanket. </span></span></span></span></span><br style="orphans:2\;-webkit-text-stroke-width:0px\;white-space:pre-wrap\;word-spacing:0px\;" />\n<br style="orphans:2\;-webkit-text-stroke-width:0px\;white-space:pre-wrap\;word-spacing:0px\;" />\n<span style="background:white\;"><span style="color:#1D2129\;"><span style="font-family:inherit\,serif\;"><span style="font-size:10.5pt\;"><span style="orphans:2\;-webkit-text-stroke-width:0px\;white-space:pre-wrap\;float:none\;word-spacing:0px\;">Pre-registration suggested.</span></span></span></span></span><br style="orphans:2\;-webkit-text-stroke-width:0px\;white-space:pre-wrap\;word-spacing:0px\;" />\n<br style="orphans:2\;-webkit-text-stroke-width:0px\;white-space:pre-wrap\;word-spacing:0px\;" />\n<span style="background:white\;"><span style="color:#1D2129\;"><span style="font-family:inherit\,serif\;"><span style="font-size:10.5pt\;"><span style="orphans:2\;-webkit-text-stroke-width:0px\;white-space:pre-wrap\;float:none\;word-spacing:0px\;">Cost: $45</span></span></span></span></span><br style="orphans:2\;-webkit-text-stroke-width:0px\;white-space:pre-wrap\;word-spacing:0px\;" />\n<br style="orphans:2\;-webkit-text-stroke-width:0px\;white-space:pre-wrap\;word-spacing:0px\;" />\n<span style="background:white\;"><span style="color:#1D2129\;"><span style="font-family:inherit\,serif\;"><span style="font-size:10.5pt\;"><span style="orphans:2\;-webkit-text-stroke-width:0px\;white-space:pre-wrap\;float:none\;word-spacing:0px\;">Please Pre-Register: (978) 657-8772\, </span></span></span></span></span><a data-lynx-mode="hover" data-lynx-uri="https://l.facebook.com/l.php?u=http%3A%2F%2Fvwspa.com%2F%3Ffbclid%3DIwAR3C2h38PeemY8XfU6COqZJUrSuQHA05JHcQRRiS0PMureP8xGj_6HKvEis&amp\;h=AT0kVzwuRqtXeHarIV0EkHe9G6sKUiP5Aaf1d9W0Tdxv0c7saqFXpSjjAx8GC7L3tayOfWWGbhCLxbHLK2Uxs7uCZrcCkZMRpvNw024UZ7JzfKHywpXWuYeNjrQ7_tj3bg" href="http://vwspa.com/?fbclid=IwAR3C2h38PeemY8XfU6COqZJUrSuQHA05JHcQRRiS0PMureP8xGj_6HKvEis" style="cursor:pointer\;orphans:2\;-webkit-text-stroke-width:0px\;white-space:pre-wrap\;word-spacing:0px\;" target="_blank"><span style="text-decoration:none\;text-underline:none\;"><span style="color:#385898\;"><span style="font-family:inherit\,serif\;"><span style="font-size:10.5pt\;">vwspa.com</span></span></span></span></a>
LOCATION:Vitality Wellness Spa 200 Jefferson Rd #103\, Wilmington\, Massachusetts 01887
UID:e.2938.5511
SEQUENCE:3
DTSTAMP:20260424T214514Z
URL:https://business.wilmingtontewksburychamber.org/events/details/didgeridoo-chakra-clearing-hosted-by-vitality-wellness-spa-5511
END:VEVENT

END:VCALENDAR
