BEGIN:VCALENDAR
VERSION:2.0
PRODID:-//ChamberMaster//Event Calendar 2.0//EN
METHOD:PUBLISH
X-PUBLISHED-TTL:P3D
REFRESH-INTERVAL:P3D
CALSCALE:GREGORIAN
BEGIN:VEVENT
DTSTART:20210327T130000Z
DTEND:20210328T040000Z
X-MICROSOFT-CDO-ALLDAYEVENT:FALSE
SUMMARY:Diaper Drive- Drive By Diaper Drop Off for Gifts of Love
DESCRIPTION:Wilmington Sons of Italy is sponsoring a diaper Drive to help support Paula Stalker and GIFTS OF LOVE by providing diapers and wipes to local mothers need.\n\nWe will be collecting diapers and wipes for the whole month of March and On March 27th and March 28th from 9 -noon we will be at the 4th of July Building parking lot on MIddlesex Ave in Wilmington collecting diapers and wipes.  This is a Drive By Event and social distancing guidelines will be followed and masks are required.\n\nContact Janet Engrem  617 957-2460    e-mail  jknje@comcast.net
X-ALT-DESC;FMTTYPE=text/html:Wilmington Sons of Italy is sponsoring a diaper Drive to help support Paula Stalker and GIFTS OF LOVE by providing diapers and wipes to local mothers need.<br />\nWe will be collecting diapers and wipes for the whole month of March and On March 27th and March 28th from 9 -noon we will be at the 4th of July Building parking lot on MIddlesex Ave in Wilmington collecting diapers and wipes.&nbsp\; This is a Drive By Event and social distancing guidelines will be followed and masks are required.<br />\nContact Janet Engrem&nbsp\; 617 957-2460&nbsp\; &nbsp\; e-mail&nbsp\; jknje@comcast.net<br />\n&nbsp\;
LOCATION:4th of July Building parking lot Middlesex Ave Wilmington\, MA 01887
UID:e.2938.6665
SEQUENCE:3
DTSTAMP:20260425T120058Z
URL:https://business.wilmingtontewksburychamber.org/events/details/diaper-drive-drive-by-diaper-drop-off-for-gifts-of-love-6665
END:VEVENT

END:VCALENDAR
