BEGIN:VCALENDAR
VERSION:2.0
PRODID:-//ChamberMaster//Event Calendar 2.0//EN
METHOD:PUBLISH
X-PUBLISHED-TTL:P3D
REFRESH-INTERVAL:P3D
CALSCALE:GREGORIAN
BEGIN:VEVENT
DTSTART:20190310T000000Z
DTEND:20190310T040000Z
X-MICROSOFT-CDO-ALLDAYEVENT:FALSE
SUMMARY:Dancing Through the Decades
DESCRIPTION:Dance to benefit "Gifts of Love" which provides diapers and wipes to families in need (items arenot covered by state or federal funding).  Cost is $20 pp and entry into a door prize for a diaper donation.   There will be coffee and dessert\, a DJ and raffles.  Bring your own goodies for your table. \n\nDancing through the Decades will feature Swing\, Jazz\, Blues\, Big Band\, Rock 'N Roll\, Country\, Mowtown\, Disco......  You name it and we'll play it!  Put on your dancing shoes and join us.\n\nContact Janet Engrem  jknje@comcast.net  978-658-9324
X-ALT-DESC;FMTTYPE=text/html:Dance to benefit <strong>&quot\;Gifts of Love</strong>&quot\; which provides diapers and wipes to families in need (items arenot covered by state or federal funding).&nbsp\; Cost is $20 pp and entry into a door prize for a diaper donation.&nbsp\; &nbsp\;There will be coffee and dessert\, a DJ and raffles.&nbsp\; Bring your own goodies for your table.&nbsp\;<br />\nDancing through the Decades will feature Swing\, Jazz\, Blues\, Big Band\, Rock &#39\;N Roll\, Country\, Mowtown\, Disco......&nbsp\; You name it and we&#39\;ll play it!&nbsp\; <strong>Put on your dancing shoes and join us</strong>.<br />\nContact Janet Engrem&nbsp\; jknje@comcast.net&nbsp\; 978-658-9324&nbsp\;
LOCATION:Wilmington Knights of Columbus Hall - 112 Middlesex Ave - Wilmington\, MA 01887
UID:e.2938.5267
SEQUENCE:3
DTSTAMP:20260425T115236Z
URL:https://business.wilmingtontewksburychamber.org/events/details/dancing-through-the-decades-5267
END:VEVENT

END:VCALENDAR
