BEGIN:VCALENDAR
VERSION:2.0
PRODID:-//ChamberMaster//Event Calendar 2.0//EN
METHOD:PUBLISH
X-PUBLISHED-TTL:P3D
REFRESH-INTERVAL:P3D
CALSCALE:GREGORIAN
BEGIN:VEVENT
DTSTART:20200308T000000Z
DTEND:20200308T040000Z
X-MICROSOFT-CDO-ALLDAYEVENT:FALSE
SUMMARY:Dancing Through the Decades
DESCRIPTION:The Wilmington Sons of Italy is hosting Dancing Through the Decades on Saturday\, March 7\, 2020 from 7:00 pm to 11:00 pm at the Tewksbury/Wilmington Elks Hall - 777 South St - Tewksbury\, MA.  All proceeds from this event will support an organization called Gifts of Love which supplies diapers and wipes to local families in need.
X-ALT-DESC;FMTTYPE=text/html:The Wilmington Sons of Italy is hosting Dancing Through the Decades on Saturday\, March 7\, 2020 from 7:00 pm to 11:00 pm at the Tewksbury/Wilmington Elks Hall - 777 South St - Tewksbury\, MA.&nbsp\; All proceeds from this event will support an organization called Gifts of Love which supplies diapers and wipes to local families in need.
LOCATION:Wilmington/Tewksbury Elks - 777 South St - Tewksbury\, MA
UID:e.2938.6639
SEQUENCE:3
DTSTAMP:20260424T144505Z
URL:https://business.wilmingtontewksburychamber.org/events/details/dancing-through-the-decades-03-07-2020-6639
END:VEVENT

END:VCALENDAR
