BEGIN:VCALENDAR
VERSION:2.0
PRODID:-//ChamberMaster//Event Calendar 2.0//EN
METHOD:PUBLISH
X-PUBLISHED-TTL:P3D
REFRESH-INTERVAL:P3D
CALSCALE:GREGORIAN
BEGIN:VEVENT
DTSTART:20180516T220000Z
DTEND:20180517T010000Z
X-MICROSOFT-CDO-ALLDAYEVENT:FALSE
SUMMARY:Creating Hope and Healing for Children and Youth
DESCRIPTION:Join us as we raise funds to support children impacted by abuse and support violence prevention education. This event will bring out the kid in you with: candy\, music\, games\, balloons\, and fun!
X-ALT-DESC;FMTTYPE=text/html:Join us as we raise funds to support children impacted by abuse and support violence prevention education. This event will bring out the kid in you with: candy\, music\, games\, balloons\, and fun!
LOCATION:UMass Lowell Inn & Conference Center 50 Warren St Lowell\, MA 01852
UID:e.2938.3163
SEQUENCE:3
DTSTAMP:20260426T004109Z
URL:https://business.wilmingtontewksburychamber.org/events/details/creating-hope-and-healing-for-children-and-youth-3163
END:VEVENT

END:VCALENDAR
