BEGIN:VCALENDAR
VERSION:2.0
PRODID:-//ChamberMaster//Event Calendar 2.0//EN
METHOD:PUBLISH
X-PUBLISHED-TTL:P3D
REFRESH-INTERVAL:P3D
CALSCALE:GREGORIAN
BEGIN:VEVENT
DTSTART:20180610T130000Z
DTEND:20180610T190000Z
X-MICROSOFT-CDO-ALLDAYEVENT:FALSE
SUMMARY:Cops for Kids with Cancer Benefit
DESCRIPTION:Wamesit Lanes announces a benefit for registered 501(c)(3)\, Cops for Kids with Cancer on Sunday\, June 10th from 9am-3pm and is in partnership with the Tewksbury and Wilmington Police Departments.  The event will feature Touch-a-Truck with Police and Fire vehicles\, swat\, K-9's\, motorcycles and more.  The event will include Bowling\, Cornhole Tournaments\, Indoor Golf Competitions\, a BBQ\, Silent Auction\, 50/50 raffle and more.  \n\nAll money collected from the event will go directly to Cops for Kids with Cancer.  Wamesit Lanes and the event partners will not deduct any costs or expenses related to the June 10th event to maximize monies going to the charity.\n\nPeople can register their bowling team or sign up for the Cornhole Tournament at WamesitLanes.com.
X-ALT-DESC;FMTTYPE=text/html:<span style="font-family:arial\,sans-serif">Wamesit Lanes announces a benefit for registered 501(c)(3)\, <em>Cops for Kids with Cancer </em>on Sunday\, June 10<sup>th</sup> from 9am-3pm and is in partnership with the Tewksbury and Wilmington Police Departments.&nbsp\; The event will feature Touch-a-Truck with Police and Fire vehicles\, swat\, K-9&rsquo\;s\, motorcycles and more.&nbsp\; The event will include Bowling\, Cornhole Tournaments\, Indoor Golf Competitions\, a BBQ\, Silent Auction\, 50/50 raffle and more.&nbsp\; </span><br />\n<span style="font-family:arial\,sans-serif">All money collected from the event will go directly to Cops for Kids with Cancer.&nbsp\; Wamesit Lanes and the event partners will not deduct any costs or expenses related to the June 10<sup>th</sup> event to maximize monies going to the charity.</span><br />\n<span style="font-family:arial\,sans-serif">People can register their bowling team or sign up for the Cornhole Tournament at WamesitLanes.com.&nbsp\; </span>
LOCATION:Wamesit Lanes 434 Main Street Tewksbury\, MA 01876
UID:e.2938.3181
SEQUENCE:3
DTSTAMP:20260425T225514Z
URL:https://business.wilmingtontewksburychamber.org/events/details/cops-for-kids-with-cancer-benefit-3181
END:VEVENT

END:VCALENDAR
