BEGIN:VCALENDAR
VERSION:2.0
PRODID:-//ChamberMaster//Event Calendar 2.0//EN
METHOD:PUBLISH
X-PUBLISHED-TTL:P3D
REFRESH-INTERVAL:P3D
CALSCALE:GREGORIAN
BEGIN:VEVENT
DTSTART:20191122T140000Z
DTEND:20191122T153000Z
X-MICROSOFT-CDO-ALLDAYEVENT:FALSE
SUMMARY:Coffee with the Chamber - Chamber 101
DESCRIPTION:Learn how to maximize your Chamber benefits at this interactive workshop. Great for new members and a valuable refresher for seasoned members to make sure you're making the most of your membership. Topics covered:\n\n \n\n\n	Overall membership benefits\n	How to use the Member Information Center to optimize your business profile\, add news\, deals\, events and more! \n	Exclusive local advertising opportunities\n\n\n \n\nBringing a laptop is encouraged but not required. \n\nAttendance is limited to 15 participants so register today!
X-ALT-DESC;FMTTYPE=text/html:<div style="color: rgb(56\, 123\, 55)\; font-family: Arial\; font-size: 12px\; font-variant-numeric: normal\; font-variant-east-asian: normal\; white-space: pre-wrap\;"><span style="color:#000000\;"><span style="font-family: Arial\, Verdana\, Helvetica\, sans-serif\; font-size: 14px\;">Learn how to maximize your Chamber benefits at this interactive workshop. Great for new members and a valuable refresher for seasoned members to make sure you&#39\;re making the most of your membership. Topics covered:</span></span></div>\n\n<div style="color: rgb(56\, 123\, 55)\; font-family: Arial\; font-size: 12px\; font-variant-numeric: normal\; font-variant-east-asian: normal\; white-space: pre-wrap\;">&nbsp\;</div>\n\n<ul style="color: rgb(56\, 123\, 55)\; font-family: Arial\; font-size: 12px\; font-variant-numeric: normal\; font-variant-east-asian: normal\; margin: 0px 0px 0px 40px\; padding-left: 0px\; padding-right: 0px\; white-space: pre-wrap\;">\n	<li style="font-size: 14px\; line-height: 1.2\; margin: 0px\; padding: 0px\;"><span style="color:#000000\;"><span style="font-family: Arial\, Verdana\, Helvetica\, sans-serif\;">Overall membership benefits</span></span></li>\n	<li style="font-size: 14px\; line-height: 1.2\; margin: 0px\; padding: 0px\;"><span style="color:#000000\;"><span style="font-family: Arial\, Verdana\, Helvetica\, sans-serif\;">How to use the Member Information Center to optimize your business profile\, add news\, deals\, events and more! </span></span></li>\n	<li style="font-size: 14px\; line-height: 1.2\; margin: 0px\; padding: 0px\;"><span style="color:#000000\;"><span style="font-family: Arial\, Verdana\, Helvetica\, sans-serif\;">Exclusive local advertising opportunities</span></span></li>\n</ul>\n\n<div style="color: rgb(56\, 123\, 55)\; font-family: Arial\; font-size: 12px\; font-variant-numeric: normal\; font-variant-east-asian: normal\; white-space: pre-wrap\;"><span style="color:#000000\;"><span style="font-family: Arial\, Verdana\, Helvetica\, sans-serif\; font-size: 14px\;">&nbsp\;</span></span></div>\n\n<div style="color: rgb(56\, 123\, 55)\; font-family: Arial\; font-size: 12px\; font-variant-numeric: normal\; font-variant-east-asian: normal\; white-space: pre-wrap\;"><span style="color:#000000\;"><span style="font-family: Arial\, Verdana\, Helvetica\, sans-serif\; font-size: 14px\;">Bringing a laptop is encouraged but not required.&nbsp\;</span></span></div>\n\n<div style="color: rgb(56\, 123\, 55)\; font-family: Arial\; font-size: 12px\; font-variant-numeric: normal\; font-variant-east-asian: normal\; white-space: pre-wrap\;"><span style="color:#000000\;"><span style="font-family: Arial\, Verdana\, Helvetica\, sans-serif\; font-size: 14px\;">Attendance is limited to 15 participants so register today!&nbsp\;</span></span></div>\n
LOCATION:Chamber Office
UID:e.2938.6543
SEQUENCE:3
DTSTAMP:20260424T111515Z
URL:https://business.wilmingtontewksburychamber.org/events/details/coffee-with-the-chamber-chamber-101-6543
END:VEVENT

END:VCALENDAR
