BEGIN:VCALENDAR
VERSION:2.0
PRODID:-//ChamberMaster//Event Calendar 2.0//EN
METHOD:PUBLISH
X-PUBLISHED-TTL:P3D
REFRESH-INTERVAL:P3D
CALSCALE:GREGORIAN
BEGIN:VEVENT
DTSTART:20190110T133000Z
DTEND:20190110T150000Z
X-MICROSOFT-CDO-ALLDAYEVENT:FALSE
SUMMARY:Coffee with the Chamber - Chamber 101
DESCRIPTION:Come join us for coffee and networking from 8:30 am - 9:00 am. Hang around and learn how to maximize your Chamber benefits from 9:00 am -10:00 am! This workshop is great for new members as well as a valuable refresher for seasoned members to make sure you're making the most of your membership. To help increase your business visibility\, we'll review:\n\n \n\n\n	Overall membership benefits\n	How to use the Member Information Center to optimize your business profile\, add news\, deals\, events and more! \n	Exclusive local advertising opportunities\n\n\n \n\nThis is an interactive\, educational session with personalized attention. Bringing a laptop is encouraged but not required. \n\n \n\nAttendance is limited to 20 participants so register today!
X-ALT-DESC;FMTTYPE=text/html:<div style="color: rgb(56\, 123\, 55)\; font-family: Arial\; font-size: 12px\; white-space: pre-wrap\; background-color: rgb(255\, 255\, 255)\;"><span style="color: rgb(0\, 0\, 0)\; font-size: 14px\;">Come join us for coffee and networking from 8:30 am - 9:00 am. Hang around and learn how to maximize your Chamber benefits from 9:00 am -10:00 am! This workshop is great for new members as well as a valuable refresher for seasoned members to make sure you&#39\;re making the most of your membership. To help increase your business visibility\, we&#39\;ll review:</span></div>\n\n<div style="color: rgb(56\, 123\, 55)\; font-family: Arial\; font-size: 12px\; white-space: pre-wrap\; background-color: rgb(255\, 255\, 255)\;">&nbsp\;</div>\n\n<ul style="padding: 0px\; margin: 0px 0px 0px 40px\; color: rgb(56\, 123\, 55)\; font-family: Arial\; font-size: 12px\; white-space: pre-wrap\; background-color: rgb(255\, 255\, 255)\;">\n	<li style="padding: 0px\; margin: 0px\; line-height: 1.2\;"><span style="font-size: 14px\; color: rgb(0\, 0\, 0)\;">Overall membership benefits</span></li>\n	<li style="padding: 0px\; margin: 0px\; line-height: 1.2\;"><span style="color: rgb(0\, 0\, 0)\; font-size: 14px\;">How to use the Member Information Center to optimize your business profile\, add news\, deals\, events and more! </span></li>\n	<li style="padding: 0px\; margin: 0px\; line-height: 1.2\;"><span style="color: rgb(0\, 0\, 0)\; font-size: 14px\;">Exclusive local advertising opportunities</span></li>\n</ul>\n\n<div style="color: rgb(56\, 123\, 55)\; font-family: Arial\; font-size: 12px\; white-space: pre-wrap\; background-color: rgb(255\, 255\, 255)\;">&nbsp\;</div>\n\n<div style="color: rgb(56\, 123\, 55)\; font-family: Arial\; font-size: 12px\; white-space: pre-wrap\; background-color: rgb(255\, 255\, 255)\;"><span style="color: rgb(0\, 0\, 0)\; font-size: 14px\;">This is an interactive\, educational session with personalized attention. Bringing a laptop is encouraged but not required.&nbsp\;</span></div>\n\n<div style="color: rgb(56\, 123\, 55)\; font-family: Arial\; font-size: 12px\; white-space: pre-wrap\; background-color: rgb(255\, 255\, 255)\;">&nbsp\;</div>\n\n<div style="color: rgb(56\, 123\, 55)\; font-family: Arial\; font-size: 12px\; white-space: pre-wrap\; background-color: rgb(255\, 255\, 255)\;"><span style="color: rgb(0\, 0\, 0)\; font-size: 14px\;">Attendance is limited to 20 participants so register today!&nbsp\;</span></div>\n
LOCATION:Chamber Office 226 Lowell Street\, Suite B4A Wilmington
UID:e.2938.5249
SEQUENCE:3
DTSTAMP:20260420T172213Z
URL:https://business.wilmingtontewksburychamber.org/events/details/coffee-with-the-chamber-chamber-101-5249
END:VEVENT

END:VCALENDAR
