BEGIN:VCALENDAR
VERSION:2.0
PRODID:-//ChamberMaster//Event Calendar 2.0//EN
METHOD:PUBLISH
X-PUBLISHED-TTL:P3D
REFRESH-INTERVAL:P3D
CALSCALE:GREGORIAN
BEGIN:VEVENT
DTSTART:20181113T130000Z
DTEND:20181113T140000Z
X-MICROSOFT-CDO-ALLDAYEVENT:FALSE
SUMMARY:Coffee with the Chamber
DESCRIPTION:Members & Prospective Members:\n\n\n\nJoin us for coffee & breakfast snacks and learn more about the Wilmington/Tewksbury Chamber of Commerce.\n\n	Meet Chamber Staff and Board of Directors\n	Network with Members\n	Learn about Membership Benefits and Marketing Tools\n\nWe look forward to seeing you!
X-ALT-DESC;FMTTYPE=text/html:Members &amp\; Prospective Members:<br />\n<br />\nJoin us for coffee &amp\; breakfast snacks and learn more about the Wilmington/Tewksbury Chamber of Commerce.\n<ul>\n	<li>Meet Chamber Staff and Board of Directors</li>\n	<li>Network with Members</li>\n	<li>Learn about Membership Benefits and Marketing Tools</li>\n</ul>\nWe look forward to seeing you!
LOCATION:Tewksbury Town Hall 1009 Main Street
UID:e.2938.5236
SEQUENCE:3
DTSTAMP:20260425T134420Z
URL:https://business.wilmingtontewksburychamber.org/events/details/coffee-with-the-chamber-5236
END:VEVENT

END:VCALENDAR
