BEGIN:VCALENDAR
VERSION:2.0
PRODID:-//ChamberMaster//Event Calendar 2.0//EN
METHOD:PUBLISH
X-PUBLISHED-TTL:P3D
REFRESH-INTERVAL:P3D
CALSCALE:GREGORIAN
BEGIN:VEVENT
DTSTART:20181006T130000Z
DTEND:20181007T030000Z
X-MICROSOFT-CDO-ALLDAYEVENT:FALSE
SUMMARY:Chamber Shots Business Photography
DESCRIPTION:Discounted Business Head Shot Photos for Chamber members.
X-ALT-DESC;FMTTYPE=text/html:Discounted Business Head Shot Photos for Chamber members.
LOCATION:Chamber Office
UID:e.2938.5224
SEQUENCE:3
DTSTAMP:20260425T160841Z
URL:https://business.wilmingtontewksburychamber.org/events/details/chamber-shots-business-photography-5224
END:VEVENT

END:VCALENDAR
