BEGIN:VCALENDAR
VERSION:2.0
PRODID:-//ChamberMaster//Event Calendar 2.0//EN
METHOD:PUBLISH
X-PUBLISHED-TTL:P3D
REFRESH-INTERVAL:P3D
CALSCALE:GREGORIAN
BEGIN:VEVENT
DTSTART:20210313T140000Z
DTEND:20210313T150000Z
X-MICROSOFT-CDO-ALLDAYEVENT:FALSE
SUMMARY:Chamber Shots Business Headshots
DESCRIPTION:Discounted Business Headshots for members of the Wilmington/Tewksbury Chamber of Commerce.\n\n(4) ten minute sessions available.  (time allotted between sessions for disinfecting)\n\n\n\nClick on the website link to reserve your spot today!
X-ALT-DESC;FMTTYPE=text/html:<p>Discounted Business Headshots for members of the Wilmington/Tewksbury Chamber of Commerce.<br />\n(4) ten minute sessions available.&nbsp\; (time allotted between sessions for disinfecting)<br />\n<br />\nClick on the website link to reserve your spot today!</p>\n
LOCATION:Jessica Kretzenger Photography Studio 226 Lowell Street\, Suite 1-B-1 Wilmington
UID:e.2938.6668
SEQUENCE:3
DTSTAMP:20260425T115730Z
URL:https://business.wilmingtontewksburychamber.org/events/details/chamber-shots-business-headshots-6668
END:VEVENT

END:VCALENDAR
