BEGIN:VCALENDAR
VERSION:2.0
PRODID:-//ChamberMaster//Event Calendar 2.0//EN
METHOD:PUBLISH
X-PUBLISHED-TTL:P3D
REFRESH-INTERVAL:P3D
CALSCALE:GREGORIAN
BEGIN:VEVENT
DTSTART:20200125T143000Z
DTEND:20200125T170000Z
X-MICROSOFT-CDO-ALLDAYEVENT:FALSE
SUMMARY:Chamber Shots Business Headshots
DESCRIPTION:Discounted Business Headshots for members of the Wilmington/Tewksbury Chamber of Commerce.\n\n(6) ten minute sessions available.  Reserve your spot today!
X-ALT-DESC;FMTTYPE=text/html:<p>Discounted Business Headshots for members of the Wilmington/Tewksbury Chamber of Commerce.<br />\n(6) ten minute sessions available.&nbsp\; Reserve your spot today!</p>\n
LOCATION:Jessica Kretzenger Photography Studio 226 Lowell Street\, Suite 1-B-1 Wilmington
UID:e.2938.6624
SEQUENCE:3
DTSTAMP:20260425T011042Z
URL:https://business.wilmingtontewksburychamber.org/events/details/chamber-shots-business-headshots-01-25-2020-6624
END:VEVENT

END:VCALENDAR
