BEGIN:VCALENDAR
VERSION:2.0
PRODID:-//ChamberMaster//Event Calendar 2.0//EN
METHOD:PUBLISH
X-PUBLISHED-TTL:P3D
REFRESH-INTERVAL:P3D
CALSCALE:GREGORIAN
BEGIN:VEVENT
DTSTART:20191211T223000Z
DTEND:20191212T003000Z
X-MICROSOFT-CDO-ALLDAYEVENT:FALSE
SUMMARY:Chamber Holiday Party
DESCRIPTION:Come mingle & jingle with fellow Wilmington/Tewksbury Chamber members!\n\n\n\nIn the Spirit of Giving ...\n\nPlease consider bringing non-perishable goods to donate to the Wilmington and Tewksbury Food Pantries.  Suggested items:  tuna\, can fruit\, can pasta\, ramon noodles\, granola bars\, pop tarts\, peanut butter\, jelly\, fluff.
X-ALT-DESC;FMTTYPE=text/html:<p>Come mingle &amp\; jingle with fellow Wilmington/Tewksbury Chamber members!<br />\n<br />\nIn the Spirit of Giving ...<br />\nPlease consider bringing non-perishable goods to donate to the Wilmington and Tewksbury Food Pantries.&nbsp\; Suggested items:&nbsp\; tuna\, can fruit\, can pasta\, ramon noodles\, granola bars\, pop tarts\, peanut butter\, jelly\, fluff.</p>\n
LOCATION:Rocco's Restaurant & Bar 193 Main Street Wilmington
UID:e.2938.6553
SEQUENCE:3
DTSTAMP:20260424T111821Z
URL:https://business.wilmingtontewksburychamber.org/events/details/chamber-holiday-party-6553
END:VEVENT

END:VCALENDAR
