BEGIN:VCALENDAR
VERSION:2.0
PRODID:-//ChamberMaster//Event Calendar 2.0//EN
METHOD:PUBLISH
X-PUBLISHED-TTL:P3D
REFRESH-INTERVAL:P3D
CALSCALE:GREGORIAN
BEGIN:VEVENT
DTSTART:20181211T223000Z
DTEND:20181212T030000Z
X-MICROSOFT-CDO-ALLDAYEVENT:FALSE
SUMMARY:Chamber Holiday Party
DESCRIPTION:Let's Celebrate The Holiday Season!\n\n\n\nCome mingle and jingle with fellow members of the Wilmington/Tewksbury Chamber of Commerce.\n\n\n\nIn the spirit of giving\, please consider bringing non-perishable breakfast goods to donate to the Wilmington and Tewksbury Food Pantries.  Suggested items:  \n\n	boxed cereal\n	oatmeal\n	pancake mix\n	syrup\n	breakfast bars.  \n\n The Chamber is proud to support these worthy community organizations.
X-ALT-DESC;FMTTYPE=text/html:<span style="font-size:16px\;"><span style="font-family:comic sans ms\;"><strong><span style="color:#FF0000\;">Let&#39\;s Celebrate The Holiday Season!</span></strong><br />\n<br />\n<span style="color:#008000\;">Come mingle and jingle with fellow members of the Wilmington/Tewksbury Chamber of Commerce.</span></span></span><br />\n<br />\n<span style="color:#008000\;"><span style="font-size:14px\;"><span style="font-family:comic sans ms\;">In the spirit of giving\, please consider bringing non-perishable breakfast goods to donate to the Wilmington and Tewksbury&nbsp\;Food Pantries.&nbsp\; Suggested items:&nbsp\; </span></span></span>\n<ul>\n	<li><span style="color:#008000\;"><span style="font-size:14px\;"><span style="font-family:comic sans ms\;">boxed cereal</span></span></span></li>\n	<li><span style="color:#008000\;"><span style="font-size:14px\;"><span style="font-family:comic sans ms\;">oatmeal</span></span></span></li>\n	<li><span style="color:#008000\;"><span style="font-size:14px\;"><span style="font-family:comic sans ms\;">pancake mix</span></span></span></li>\n	<li><span style="color:#008000\;"><span style="font-size:14px\;"><span style="font-family:comic sans ms\;">syrup</span></span></span></li>\n	<li><span style="color:#008000\;"><span style="font-size:14px\;"><span style="font-family:comic sans ms\;">breakfast bars.&nbsp\; </span></span></span></li>\n</ul>\n<span style="color:#008000\;"> <span style="font-size:14px\;"><span style="font-family:comic sans ms\;">The Chamber is proud to support these worthy community organizations.</span></span></span>
LOCATION:TJ Callahan's Pub 1475 Main Street Tewksbury
UID:e.2938.5240
SEQUENCE:3
DTSTAMP:20260425T134714Z
URL:https://business.wilmingtontewksburychamber.org/events/details/chamber-holiday-party-5240
END:VEVENT

END:VCALENDAR
