BEGIN:VCALENDAR
VERSION:2.0
PRODID:-//ChamberMaster//Event Calendar 2.0//EN
METHOD:PUBLISH
X-PUBLISHED-TTL:P3D
REFRESH-INTERVAL:P3D
CALSCALE:GREGORIAN
BEGIN:VEVENT
DTSTART:20200227T223000Z
DTEND:20200228T003000Z
X-MICROSOFT-CDO-ALLDAYEVENT:FALSE
SUMMARY:Chamber & BNI After Hours Social
DESCRIPTION:Come expand your reach and network with members from our local BNI Chapter and the Wilmington/Tewksbury Chamber of Commerce. \n\nThis relaxed networking evening is a great way to connect with new business owners\, seasoned veterans and local entrepreneurs from our business community.\n\nThe event is free to attend\, however\, we kindly ask that you RSVP.\n\nLight Appetizers - Cash Bar
X-ALT-DESC;FMTTYPE=text/html:<p><span style="color:#696969\;"><span style="font-size:14px\;">Come expand your reach and network with members from our local BNI Chapter and the Wilmington/Tewksbury Chamber of Commerce. </span></span></p>\n\n<p><span style="color:#696969\;"><span style="font-size:14px\;">This relaxed networking evening is a great way to connect with new business owners\, seasoned veterans and local entrepreneurs from our business community.</span></span></p>\n\n<p><span style="color:#696969\;"><span style="font-size:14px\;">The event is free to attend\, however\, we kindly ask that you RSVP.</span></span></p>\n\n<p><span style="font-size:16px\;"><span style="color:#696969\;"><strong><span style="font-family:calibri\,sans-serif\;">Light Appetizers - Cash Bar</span></strong></span></span></p>\n
LOCATION:Tremezzo Ristorante Square One Plaza 2 Lowell Street\, Wilmington
UID:e.2938.6635
SEQUENCE:3
DTSTAMP:20260424T144628Z
URL:https://business.wilmingtontewksburychamber.org/events/details/chamber-bni-after-hours-social-6635
END:VEVENT

END:VCALENDAR
