BEGIN:VCALENDAR
VERSION:2.0
PRODID:-//ChamberMaster//Event Calendar 2.0//EN
METHOD:PUBLISH
X-PUBLISHED-TTL:P3D
REFRESH-INTERVAL:P3D
CALSCALE:GREGORIAN
BEGIN:VEVENT
DTSTART:20180410T220000Z
DTEND:20180411T010000Z
X-MICROSOFT-CDO-ALLDAYEVENT:FALSE
SUMMARY:Candidates Night/ Debate - Wilmington
DESCRIPTION:The Wilmington/Tewksbury Chamber of Commerce\, WCTV and Reading Cooperative Bank will once again host a "Candidates Night/Debate" for Wilmington residents to attend or view live from the comfort of their home. \n\nThe debates provide an opportunity for candidates to articulate their positions on key issues facing Wilmington and to differentiate themselves from their opponents.  TOWN ELECTION IS SATURDAY\, APRIL 28.\n\n\n\nWilmington residents are welcome to attend and we encourage candidates to invite their supporters to the studio. Candidates night will broadcast live on Channel 38 (Verizon) or Channel 22 (Comcast)\, as well as on WCTV.org.
X-ALT-DESC;FMTTYPE=text/html:<p><span style="color: rgb(51\, 51\, 51)\; font-family: sans-serif\, Arial\, Verdana\, &quot\;Trebuchet MS&quot\;\; font-size: 13px\; background-color: rgb(255\, 255\, 255)\;">The Wilmington/Tewksbury Chamber of Commerce\, WCTV and Reading Cooperative Bank will once again host a &quot\;Candidates Night/Debate&quot\; for Wilmington residents to attend or view live from the comfort of their home.&nbsp\;</span></p>\n\n<p><span style="color: rgb(51\, 51\, 51)\; font-family: sans-serif\, Arial\, Verdana\, &quot\;Trebuchet MS&quot\;\; font-size: 13px\; background-color: rgb(255\, 255\, 255)\;">The debates provide an opportunity for candidates to articulate their positions on key issues facing Wilmington and to differentiate themselves from their opponents.&nbsp\; TOWN ELECTION IS SATURDAY\, APRIL 28.</span><br />\n<br />\nWilmington residents are welcome to attend and we encourage candidates to invite their supporters to the studio. Candidates night will broadcast live on Channel 38 (Verizon) or Channel 22 (Comcast)\, as well as on WCTV.org.</p>\n
LOCATION:WCTV\, 10 Waltham St.\, Wilmington
UID:e.2938.1155
SEQUENCE:3
DTSTAMP:20260426T023630Z
URL:https://business.wilmingtontewksburychamber.org/events/details/candidates-night-debate-wilmington-1155
END:VEVENT

END:VCALENDAR
